BEGIN:VCALENDAR
VERSION:2.0
PRODID:-//Paul D&#039;Angelo - ECPv6.9.0//NONSGML v1.0//EN
CALSCALE:GREGORIAN
METHOD:PUBLISH
X-WR-CALNAME:Paul D&#039;Angelo
X-ORIGINAL-URL:https://www.pdangelo.com/site
X-WR-CALDESC:Events for Paul D&#039;Angelo
REFRESH-INTERVAL;VALUE=DURATION:PT1H
X-Robots-Tag:noindex
X-PUBLISHED-TTL:PT1H
BEGIN:VTIMEZONE
TZID:UTC
BEGIN:STANDARD
TZOFFSETFROM:+0000
TZOFFSETTO:+0000
TZNAME:UTC
DTSTART:20250101T000000
END:STANDARD
END:VTIMEZONE
BEGIN:VEVENT
DTSTART;TZID=UTC:20250717T180000
DTEND;TZID=UTC:20250717T210000
DTSTAMP:20260419T223725
CREATED:20240917T163921Z
LAST-MODIFIED:20240917T163921Z
UID:4049-1752775200-1752786000@www.pdangelo.com
SUMMARY:Southern Police Institute Alumni Association (SPIAA) event at Peabody Marriott
DESCRIPTION:
URL:https://www.pdangelo.com/site/event/southern-police-institute-alumni-association-spiaa-event-at-peabody-marriott/
LOCATION:Boston Marriott Peabody\, 8A Centennial Drive\, Peabody\, MA\, 01960\, United States
END:VEVENT
END:VCALENDAR