BEGIN:VCALENDAR
VERSION:2.0
PRODID:-//Paul D&#039;Angelo - ECPv6.9.0//NONSGML v1.0//EN
CALSCALE:GREGORIAN
METHOD:PUBLISH
X-WR-CALNAME:Paul D&#039;Angelo
X-ORIGINAL-URL:https://www.pdangelo.com/site
X-WR-CALDESC:Events for Paul D&#039;Angelo
REFRESH-INTERVAL;VALUE=DURATION:PT1H
X-Robots-Tag:noindex
X-PUBLISHED-TTL:PT1H
BEGIN:VTIMEZONE
TZID:UTC
BEGIN:STANDARD
TZOFFSETFROM:+0000
TZOFFSETTO:+0000
TZNAME:UTC
DTSTART:20250101T000000
END:STANDARD
END:VTIMEZONE
BEGIN:VEVENT
DTSTART;TZID=UTC:20250614T160000
DTEND;TZID=UTC:20250614T180000
DTSTAMP:20260420T225429
CREATED:20250426T160425Z
LAST-MODIFIED:20250426T160425Z
UID:4218-1749916800-1749924000@www.pdangelo.com
SUMMARY:Fender Bender band performs at Magnolia Porch Fest
DESCRIPTION:
URL:https://www.pdangelo.com/site/event/fender-bender-band-performs-at-magnolia-porch-fest/
LOCATION:Murphy home\, Magnolia\, 205 Hesperus Avenue\, Magnolia\, MA\, 01930\, United States
ORGANIZER;CN="Paul D'Angelo":MAILTO:pdangelocomic@aol.com
END:VEVENT
END:VCALENDAR