BEGIN:VCALENDAR
VERSION:2.0
PRODID:-//Paul D&#039;Angelo - ECPv6.9.0//NONSGML v1.0//EN
CALSCALE:GREGORIAN
METHOD:PUBLISH
X-ORIGINAL-URL:https://www.pdangelo.com/site
X-WR-CALDESC:Events for Paul D&#039;Angelo
REFRESH-INTERVAL;VALUE=DURATION:PT1H
X-Robots-Tag:noindex
X-PUBLISHED-TTL:PT1H
BEGIN:VTIMEZONE
TZID:UTC
BEGIN:STANDARD
TZOFFSETFROM:+0000
TZOFFSETTO:+0000
TZNAME:UTC
DTSTART:20250101T000000
END:STANDARD
END:VTIMEZONE
BEGIN:VEVENT
DTSTART;TZID=UTC:20250119T200000
DTEND;TZID=UTC:20250119T220000
DTSTAMP:20260425T150619
CREATED:20241125T195326Z
LAST-MODIFIED:20241125T195326Z
UID:4090-1737316800-1737324000@www.pdangelo.com
SUMMARY:comedy at Longboards\, Pickering Wharf\, Salem\, MA
DESCRIPTION:with Paul Gilligan and Matt Misci
URL:https://www.pdangelo.com/site/event/comedy-at-longboards-pickering-wharf-salem-ma/
LOCATION:Longboards\, Pickering Wharf\, Salem\, 76 Wharf Street\, Salem\, MA\, 01970\, United States
END:VEVENT
END:VCALENDAR