BEGIN:VCALENDAR
VERSION:2.0
PRODID:-//Paul D&#039;Angelo - ECPv6.9.0//NONSGML v1.0//EN
CALSCALE:GREGORIAN
METHOD:PUBLISH
X-WR-CALNAME:Paul D&#039;Angelo
X-ORIGINAL-URL:https://www.pdangelo.com/site
X-WR-CALDESC:Events for Paul D&#039;Angelo
REFRESH-INTERVAL;VALUE=DURATION:PT1H
X-Robots-Tag:noindex
X-PUBLISHED-TTL:PT1H
BEGIN:VTIMEZONE
TZID:UTC
BEGIN:STANDARD
TZOFFSETFROM:+0000
TZOFFSETTO:+0000
TZNAME:UTC
DTSTART:20240101T000000
END:STANDARD
END:VTIMEZONE
BEGIN:VEVENT
DTSTART;TZID=UTC:20241110T140000
DTEND;TZID=UTC:20241110T170000
DTSTAMP:20260425T134348
CREATED:20240417T173410Z
LAST-MODIFIED:20240417T173410Z
UID:3916-1731247200-1731258000@www.pdangelo.com
SUMMARY:fundraising event at Somerville VFW
DESCRIPTION:
URL:https://www.pdangelo.com/site/event/fundraising-event-at-somerville-vfw/
LOCATION:Somerville VFW\, 351 Summer Street\, Somerville\, MA\, 02145\, United States
END:VEVENT
END:VCALENDAR