BEGIN:VCALENDAR
VERSION:2.0
PRODID:-//Paul D&#039;Angelo - ECPv6.9.0//NONSGML v1.0//EN
CALSCALE:GREGORIAN
METHOD:PUBLISH
X-ORIGINAL-URL:https://www.pdangelo.com/site
X-WR-CALDESC:Events for Paul D&#039;Angelo
REFRESH-INTERVAL;VALUE=DURATION:PT1H
X-Robots-Tag:noindex
X-PUBLISHED-TTL:PT1H
BEGIN:VTIMEZONE
TZID:UTC
BEGIN:STANDARD
TZOFFSETFROM:+0000
TZOFFSETTO:+0000
TZNAME:UTC
DTSTART:20250101T000000
END:STANDARD
END:VTIMEZONE
BEGIN:VEVENT
DTSTART;TZID=UTC:20250501T193000
DTEND;TZID=UTC:20250501T220000
DTSTAMP:20260421T015936
CREATED:20250218T140633Z
LAST-MODIFIED:20250218T140633Z
UID:4154-1746127800-1746136800@www.pdangelo.com
SUMMARY:Castle Manor Inn\, Gloucester: fundraiser for Rockport's 4th of July fireworks
DESCRIPTION:with special guest Mitch Stinson\, former Naval aviator
URL:https://www.pdangelo.com/site/event/castle-manor-inn-gloucester-fundraiser-for-rockports-4th-of-july-fireworks/
LOCATION:Castle Manor Inn\, Gloucester\, 141 Essex Street\, Gloucester\, MA\, 01930\, United States
END:VEVENT
BEGIN:VEVENT
DTSTART;TZID=UTC:20250502T200000
DTEND;TZID=UTC:20250502T220000
DTSTAMP:20260421T015936
CREATED:20250305T195208Z
LAST-MODIFIED:20250305T195208Z
UID:4165-1746216000-1746223200@www.pdangelo.com
SUMMARY:Gametime Lanes & Entertainment Center\, Northshore Mall\, Peabody
DESCRIPTION:
URL:https://www.pdangelo.com/site/event/gametime-lanes-entertainment-center-northshore-mall-peabody/
LOCATION:Gametime Lanes & Entertainment at Northshore Mall\, 210 Andover Street\, Peabody\, MA\, 01960\, United States
END:VEVENT
BEGIN:VEVENT
DTSTART;TZID=UTC:20250510T200000
DTEND;TZID=UTC:20250510T220000
DTSTAMP:20260421T015936
CREATED:20240917T000651Z
LAST-MODIFIED:20250115T174715Z
UID:4046-1746907200-1746914400@www.pdangelo.com
SUMMARY:Tupelo Music Hall\, Derry\, NH
DESCRIPTION:
URL:https://www.pdangelo.com/site/event/comedy-at-the-greenside-restaurant-at-lochmere-country-club-tilton-nh/
LOCATION:Tupelo Music Hall\, Derry\, NH\, 10 A Street\, Derry\, NH\, 03038\, United States
ORGANIZER;CN="Laugh Riot Productions":MAILTO:msmith789@comcast.net
END:VEVENT
BEGIN:VEVENT
DTSTART;TZID=UTC:20250517T200000
DTEND;TZID=UTC:20250517T220000
DTSTAMP:20260421T015936
CREATED:20250307T180940Z
LAST-MODIFIED:20250307T180940Z
UID:4173-1747512000-1747519200@www.pdangelo.com
SUMMARY:comedy at Seacrest Beach Resort\, North Falmouth
DESCRIPTION:
URL:https://www.pdangelo.com/site/event/comedy-at-seacrest-beach-resort-north-falmouth/
LOCATION:Seacrest Beach Resort\, North Falmouth\, 350 Quaker Road\, North Falmouth\, MA\, 02556\, United States
END:VEVENT
BEGIN:VEVENT
DTSTART;TZID=UTC:20250522T193000
DTEND;TZID=UTC:20250522T220000
DTSTAMP:20260421T015936
CREATED:20250426T155603Z
LAST-MODIFIED:20250426T155603Z
UID:4213-1747942200-1747951200@www.pdangelo.com
SUMMARY:private fundraising event in Amesbury
DESCRIPTION:
URL:https://www.pdangelo.com/site/event/private-fundraising-event-in-amesbury/
LOCATION:Kevin Chiles’ building\, Amesbury\, 35 Water Street\, Amesbury\, MA\, 01913\, United States
END:VEVENT
BEGIN:VEVENT
DTSTART;TZID=UTC:20250523T190000
DTEND;TZID=UTC:20250523T220000
DTSTAMP:20260421T015936
CREATED:20250409T194534Z
LAST-MODIFIED:20250409T194534Z
UID:4202-1748026800-1748037600@www.pdangelo.com
SUMMARY:annual comedy fundraiser at the Shriner's Auditorium\, Wilmington
DESCRIPTION:along with Johnny Pizzi\, Brad Mastrangelo and host Joe Espi
URL:https://www.pdangelo.com/site/event/annual-comedy-fundraiser-at-the-shriners-auditorium-wilmington/
LOCATION:Shriner’s Hall\, Wilmington\, 99 Fordham Road\, Wilmington\, MA\, 01887\, United States
END:VEVENT
BEGIN:VEVENT
DTSTART;TZID=UTC:20250529T193000
DTEND;TZID=UTC:20250529T220000
DTSTAMP:20260421T015936
CREATED:20250213T194031Z
LAST-MODIFIED:20250213T194031Z
UID:4151-1748547000-1748556000@www.pdangelo.com
SUMMARY:comedy event at Framingham Country Club
DESCRIPTION:
URL:https://www.pdangelo.com/site/event/comedy-event-at-framingham-country-club/
LOCATION:Framingham Country Club\, 16 Gales Street\, Framingham\, MA\, 01702\, United States
ORGANIZER;CN="On Premise Entertainment":MAILTO:onpremiseentertainment@gmail.com
END:VEVENT
BEGIN:VEVENT
DTSTART;TZID=UTC:20250530T203000
DTEND;TZID=UTC:20250530T220000
DTSTAMP:20260421T015936
CREATED:20250204T160955Z
LAST-MODIFIED:20250204T160955Z
UID:4126-1748637000-1748642400@www.pdangelo.com
SUMMARY:Giggles Comedy Club
DESCRIPTION:
URL:https://www.pdangelo.com/site/event/giggles-comedy-club-76/
LOCATION:Giggles Comedy Club / Prince Restaurant\, 517 Broadway (Route #1 SB)\, Saugus\, MA\, 01906\, United States
END:VEVENT
BEGIN:VEVENT
DTSTART;TZID=UTC:20250531T203000
DTEND;TZID=UTC:20250531T220000
DTSTAMP:20260421T015936
CREATED:20250204T161108Z
LAST-MODIFIED:20250204T161108Z
UID:4128-1748723400-1748728800@www.pdangelo.com
SUMMARY:Giggles Comedy Club
DESCRIPTION:
URL:https://www.pdangelo.com/site/event/giggles-comedy-club-77/
LOCATION:Giggles Comedy Club / Prince Restaurant\, 517 Broadway (Route #1 SB)\, Saugus\, MA\, 01906\, United States
END:VEVENT
END:VCALENDAR