BEGIN:VCALENDAR
VERSION:2.0
PRODID:-//Paul D&#039;Angelo - ECPv6.9.0//NONSGML v1.0//EN
CALSCALE:GREGORIAN
METHOD:PUBLISH
X-ORIGINAL-URL:https://www.pdangelo.com/site
X-WR-CALDESC:Events for Paul D&#039;Angelo
REFRESH-INTERVAL;VALUE=DURATION:PT1H
X-Robots-Tag:noindex
X-PUBLISHED-TTL:PT1H
BEGIN:VTIMEZONE
TZID:UTC
BEGIN:STANDARD
TZOFFSETFROM:+0000
TZOFFSETTO:+0000
TZNAME:UTC
DTSTART:20250101T000000
END:STANDARD
END:VTIMEZONE
BEGIN:VEVENT
DTSTART;TZID=UTC:20250119T200000
DTEND;TZID=UTC:20250119T220000
DTSTAMP:20260425T102704
CREATED:20241125T195326Z
LAST-MODIFIED:20241125T195326Z
UID:4090-1737316800-1737324000@www.pdangelo.com
SUMMARY:comedy at Longboards\, Pickering Wharf\, Salem\, MA
DESCRIPTION:with Paul Gilligan and Matt Misci
URL:https://www.pdangelo.com/site/event/comedy-at-longboards-pickering-wharf-salem-ma/
LOCATION:Longboards\, Pickering Wharf\, Salem\, 76 Wharf Street\, Salem\, MA\, 01970\, United States
END:VEVENT
BEGIN:VEVENT
DTSTART;TZID=UTC:20250124T200000
DTEND;TZID=UTC:20250124T220000
DTSTAMP:20260425T102704
CREATED:20241023T171130Z
LAST-MODIFIED:20241023T171130Z
UID:4076-1737748800-1737756000@www.pdangelo.com
SUMMARY:fundraising event at Middleboro (MA) Elks
DESCRIPTION:fundraiser to benefit the Middleboro Fire Department
URL:https://www.pdangelo.com/site/event/fundraising-event-at-middleboro-ma-elks-2/
LOCATION:Middleboro (MA) Elks\, 24 High Street\, Middleboro\, MA\, 02346\, United States
END:VEVENT
BEGIN:VEVENT
DTSTART;TZID=UTC:20250125T190000
DTEND;TZID=UTC:20250125T220000
DTSTAMP:20260425T102704
CREATED:20241211T201914Z
LAST-MODIFIED:20241211T201914Z
UID:4097-1737831600-1737842400@www.pdangelo.com
SUMMARY:fundraising event for Wakefield's 4th of July parade at the West Side Social Club
DESCRIPTION:
URL:https://www.pdangelo.com/site/event/fundraising-event-for-wakefields-4th-of-july-parade-at-the-west-side-social-club/
LOCATION:West Side Social Club\, Wakefield\, 4 Harrington Court\, Wakefield\, MA\, 01880\, United States
END:VEVENT
BEGIN:VEVENT
DTSTART;TZID=UTC:20250125T193000
DTEND;TZID=UTC:20250125T220000
DTSTAMP:20260425T102704
CREATED:20241216T225126Z
LAST-MODIFIED:20241216T225126Z
UID:4102-1737833400-1737842400@www.pdangelo.com
SUMMARY:fundraising event for Wakefield 4th of July parade; West Side Social Club
DESCRIPTION:
URL:https://www.pdangelo.com/site/event/fundraising-event-for-wakefield-4th-of-july-parade-west-side-social-club/
LOCATION:West Side Social Club\, Wakefield\, 4 Harrington Court\, Wakefield\, MA\, 01880\, United States
END:VEVENT
BEGIN:VEVENT
DTSTART;TZID=UTC:20250130T193000
DTEND;TZID=UTC:20250130T230000
DTSTAMP:20260425T102704
CREATED:20241125T195542Z
LAST-MODIFIED:20241125T195542Z
UID:4092-1738265400-1738278000@www.pdangelo.com
SUMMARY:fundraising event for comedian Patty Ross at Giggles / Prince Restaurant
DESCRIPTION:with an All-Star line-up of Boston’s best comedians
URL:https://www.pdangelo.com/site/event/fundraising-event-for-comedian-patty-ross-at-giggles-prince-restaurant/
LOCATION:Giggles Comedy Club / Prince Restaurant\, 517 Broadway (Route #1 SB)\, Saugus\, MA\, 01906\, United States
END:VEVENT
BEGIN:VEVENT
DTSTART;TZID=UTC:20250131T203000
DTEND;TZID=UTC:20250131T220000
DTSTAMP:20260425T102704
CREATED:20240811T163303Z
LAST-MODIFIED:20240811T163303Z
UID:4018-1738355400-1738360800@www.pdangelo.com
SUMMARY:Giggles Comedy Club
DESCRIPTION:
URL:https://www.pdangelo.com/site/event/giggles-comedy-club-72/
LOCATION:Giggles Comedy Club / Prince Restaurant\, 517 Broadway (Route #1 SB)\, Saugus\, MA\, 01906\, United States
END:VEVENT
END:VCALENDAR