BEGIN:VCALENDAR
VERSION:2.0
PRODID:-//Paul D&#039;Angelo - ECPv6.9.0//NONSGML v1.0//EN
CALSCALE:GREGORIAN
METHOD:PUBLISH
X-WR-CALNAME:Paul D&#039;Angelo
X-ORIGINAL-URL:https://www.pdangelo.com/site
X-WR-CALDESC:Events for Paul D&#039;Angelo
REFRESH-INTERVAL;VALUE=DURATION:PT1H
X-Robots-Tag:noindex
X-PUBLISHED-TTL:PT1H
BEGIN:VTIMEZONE
TZID:UTC
BEGIN:STANDARD
TZOFFSETFROM:+0000
TZOFFSETTO:+0000
TZNAME:UTC
DTSTART:20240101T000000
END:STANDARD
END:VTIMEZONE
BEGIN:VEVENT
DTSTART;TZID=UTC:20241101T190000
DTEND;TZID=UTC:20241101T220000
DTSTAMP:20260425T210554
CREATED:20240905T195851Z
LAST-MODIFIED:20240905T195851Z
UID:4038-1730487600-1730498400@www.pdangelo.com
SUMMARY:Luna Rossa\, Tewksbury
DESCRIPTION:with singer Joey Canzano
URL:https://www.pdangelo.com/site/event/luna-rossa-tewksbury/
LOCATION:Luna Rossa\, Tewksbury\, 1699 Shawsheen Street\, Tewksbury\, MA\, 01876\, United States
END:VEVENT
BEGIN:VEVENT
DTSTART;TZID=UTC:20241102T200000
DTEND;TZID=UTC:20241102T220000
DTSTAMP:20260425T210554
CREATED:20240521T155012Z
LAST-MODIFIED:20241023T170744Z
UID:3946-1730577600-1730584800@www.pdangelo.com
SUMMARY:fundraising event at Woburn - Stoneham Lodge of Elks
DESCRIPTION:with Paul Gilligan
URL:https://www.pdangelo.com/site/event/fundraising-event-at-wakefield-ma-elks-2/
LOCATION:Woburn – Stoneham Lodge of Elks\, 295 Washington Street\, Woburn\, 01809\, United States
END:VEVENT
BEGIN:VEVENT
DTSTART;TZID=UTC:20241107T193000
DTEND;TZID=UTC:20241107T213000
DTSTAMP:20260425T210554
CREATED:20240924T205802Z
LAST-MODIFIED:20240924T205802Z
UID:4058-1731007800-1731015000@www.pdangelo.com
SUMMARY:fundraising event at Anthony's in Malden
DESCRIPTION:with Paul Gilligan
URL:https://www.pdangelo.com/site/event/fundraising-event-at-anthonys-in-malden/
LOCATION:Anthony’s\, Malden\, 105 Canal Street\, Malden\, MA\, 02148\, United States
END:VEVENT
BEGIN:VEVENT
DTSTART;TZID=UTC:20241108T200000
DTEND;TZID=UTC:20241108T220000
DTSTAMP:20260425T210554
CREATED:20240930T193809Z
LAST-MODIFIED:20240930T193809Z
UID:4061-1731096000-1731103200@www.pdangelo.com
SUMMARY:event at Hopkinton Country Club
DESCRIPTION:
URL:https://www.pdangelo.com/site/event/event-at-hopkinton-country-club/
LOCATION:Hopkinton Country Club\, 204 Saddle Hill Road\, Hopkinton\, MA\, 01748\, United States
ORGANIZER;CN="On Premise Entertainment":MAILTO:onpremiseentertainment@gmail.com
END:VEVENT
BEGIN:VEVENT
DTSTART;TZID=UTC:20241109T200000
DTEND;TZID=UTC:20241109T220000
DTSTAMP:20260425T210554
CREATED:20240530T171349Z
LAST-MODIFIED:20240530T171349Z
UID:3952-1731182400-1731189600@www.pdangelo.com
SUMMARY:fundraising event at Fall River Elks Lodge #118
DESCRIPTION:with Paul Gilligan
URL:https://www.pdangelo.com/site/event/fundraising-event-at-fall-river-elks-lodge-118/
LOCATION:Fall River Elks Lodge #118\, 4500 No Main Street\, Fall River\, MA\, 02720\, United States
END:VEVENT
BEGIN:VEVENT
DTSTART;TZID=UTC:20241110T140000
DTEND;TZID=UTC:20241110T170000
DTSTAMP:20260425T210554
CREATED:20240417T173410Z
LAST-MODIFIED:20240417T173410Z
UID:3916-1731247200-1731258000@www.pdangelo.com
SUMMARY:fundraising event at Somerville VFW
DESCRIPTION:
URL:https://www.pdangelo.com/site/event/fundraising-event-at-somerville-vfw/
LOCATION:Somerville VFW\, 351 Summer Street\, Somerville\, MA\, 02145\, United States
END:VEVENT
BEGIN:VEVENT
DTSTART;TZID=UTC:20241115T193000
DTEND;TZID=UTC:20241115T220000
DTSTAMP:20260425T210554
CREATED:20240918T175347Z
LAST-MODIFIED:20240918T175347Z
UID:4052-1731699000-1731708000@www.pdangelo.com
SUMMARY:comedy at Charlie's Country Barn\, Atkinson\, NH
DESCRIPTION:along with “Boston’s Queen of Comedy” Christine Hurley
URL:https://www.pdangelo.com/site/event/comedy-at-charlies-country-barn-atkinson-nh/
LOCATION:Charlie’s Country Barn\, Atkinson\, NH\, 6 Upland Road\, Atkinson\, NH\, 03811\, United States
END:VEVENT
BEGIN:VEVENT
DTSTART;TZID=UTC:20241116T190000
DTEND;TZID=UTC:20241116T220000
DTSTAMP:20260425T210554
CREATED:20241017T151956Z
LAST-MODIFIED:20241017T151956Z
UID:4067-1731783600-1731794400@www.pdangelo.com
SUMMARY:comedy event at Alpine Country Club\, Cranston\, RI
DESCRIPTION:
URL:https://www.pdangelo.com/site/event/comedy-event-at-alpine-country-club-cranston-ri/
LOCATION:Alpine Country Club\, Cranston\, 251 Pippin Orchard Road\, Cranston\, RI\, 02921\, United States
END:VEVENT
BEGIN:VEVENT
DTSTART;TZID=UTC:20241121T193000
DTEND;TZID=UTC:20241121T220000
DTSTAMP:20260425T210554
CREATED:20241017T152446Z
LAST-MODIFIED:20241017T152446Z
UID:4070-1732217400-1732226400@www.pdangelo.com
SUMMARY:corporate event at New England Premier SportsPlex\, Danvers\, MA
DESCRIPTION:
URL:https://www.pdangelo.com/site/event/corporate-event-at-new-england-premier-sportsplex-danvers-ma/
LOCATION:New England Premier SportsPlex\, Danvers\, 199 Newbury Street\, Danvers\, MA\, 01923\, United States
END:VEVENT
BEGIN:VEVENT
DTSTART;TZID=UTC:20241122T200000
DTEND;TZID=UTC:20241122T220000
DTSTAMP:20260425T210554
CREATED:20240905T195701Z
LAST-MODIFIED:20240905T195701Z
UID:4036-1732305600-1732312800@www.pdangelo.com
SUMMARY:Kowloon Komedy
DESCRIPTION:
URL:https://www.pdangelo.com/site/event/kowloon-komedy-12/
LOCATION:Kowloon Restaurant\, 948 Broadway\, Saugus\, MA\, 01906\, United States
END:VEVENT
BEGIN:VEVENT
DTSTART;TZID=UTC:20241123T203000
DTEND;TZID=UTC:20241123T223000
DTSTAMP:20260425T210554
CREATED:20240611T203605Z
LAST-MODIFIED:20240611T203605Z
UID:3956-1732393800-1732401000@www.pdangelo.com
SUMMARY:Wicked Funny Comedy at the China Blossom
DESCRIPTION:
URL:https://www.pdangelo.com/site/event/wicked-funny-comedy-at-the-china-blossom/
LOCATION:China Blossom\, 946 Osgood St\, North Andover\, MA\, 01845\, United States
ORGANIZER;CN="CPF Productions":MAILTO:chris@cpfproductions.com
END:VEVENT
BEGIN:VEVENT
DTSTART;TZID=UTC:20241127T190000
DTEND;TZID=UTC:20241127T220000
DTSTAMP:20260425T210554
CREATED:20240911T140324Z
LAST-MODIFIED:20240911T140324Z
UID:4040-1732734000-1732744800@www.pdangelo.com
SUMMARY:Annual "Pie Night" event at Giggles comedy club
DESCRIPTION:
URL:https://www.pdangelo.com/site/event/annual-pie-night-event-at-giggles-comedy-club/
LOCATION:Giggles Comedy Club / Prince Restaurant\, 517 Broadway (Route #1 SB)\, Saugus\, MA\, 01906\, United States
END:VEVENT
END:VCALENDAR