BEGIN:VCALENDAR
VERSION:2.0
PRODID:-//Paul D&#039;Angelo - ECPv6.9.0//NONSGML v1.0//EN
CALSCALE:GREGORIAN
METHOD:PUBLISH
X-WR-CALNAME:Paul D&#039;Angelo
X-ORIGINAL-URL:https://www.pdangelo.com/site
X-WR-CALDESC:Events for Paul D&#039;Angelo
REFRESH-INTERVAL;VALUE=DURATION:PT1H
X-Robots-Tag:noindex
X-PUBLISHED-TTL:PT1H
BEGIN:VTIMEZONE
TZID:UTC
BEGIN:STANDARD
TZOFFSETFROM:+0000
TZOFFSETTO:+0000
TZNAME:UTC
DTSTART:20240101T000000
END:STANDARD
END:VTIMEZONE
BEGIN:VEVENT
DTSTART;TZID=UTC:20240912T200000
DTEND;TZID=UTC:20240912T220000
DTSTAMP:20260426T031126
CREATED:20240417T172818Z
LAST-MODIFIED:20240417T172818Z
UID:3910-1726171200-1726178400@www.pdangelo.com
SUMMARY:Giggles Comedy Club; fundraising event
DESCRIPTION:
URL:https://www.pdangelo.com/site/event/giggles-comedy-club-fundraising-event-3/
LOCATION:Giggles Comedy Club / Prince Restaurant\, 517 Broadway (Route #1 SB)\, Saugus\, MA\, 01906\, United States
END:VEVENT
BEGIN:VEVENT
DTSTART;TZID=UTC:20240913T203000
DTEND;TZID=UTC:20240913T223000
DTSTAMP:20260426T031126
CREATED:20240417T172933Z
LAST-MODIFIED:20240417T172933Z
UID:3912-1726259400-1726266600@www.pdangelo.com
SUMMARY:Giggles Comedy Club
DESCRIPTION:
URL:https://www.pdangelo.com/site/event/giggles-comedy-club-70/
LOCATION:Giggles Comedy Club / Prince Restaurant\, 517 Broadway (Route #1 SB)\, Saugus\, MA\, 01906\, United States
END:VEVENT
BEGIN:VEVENT
DTSTART;TZID=UTC:20240914T203000
DTEND;TZID=UTC:20240914T223000
DTSTAMP:20260426T031126
CREATED:20240417T173053Z
LAST-MODIFIED:20240417T173053Z
UID:3914-1726345800-1726353000@www.pdangelo.com
SUMMARY:Giggles Comedy Club
DESCRIPTION:
URL:https://www.pdangelo.com/site/event/giggles-comedy-club-71/
LOCATION:Giggles Comedy Club / Prince Restaurant\, 517 Broadway (Route #1 SB)\, Saugus\, MA\, 01906\, United States
END:VEVENT
BEGIN:VEVENT
DTSTART;TZID=UTC:20240920T200000
DTEND;TZID=UTC:20240920T220000
DTSTAMP:20260426T031126
CREATED:20240516T030406Z
LAST-MODIFIED:20240516T030406Z
UID:3940-1726862400-1726869600@www.pdangelo.com
SUMMARY:Samuel Slater's\, Webster\, MA
DESCRIPTION:
URL:https://www.pdangelo.com/site/event/samuel-slaters-webster-ma/
LOCATION:Samuel Slater’s Restaurant\, Webster\, MA\, 200 Gore Road\, Webster\, MA\, 01570\, United States
END:VEVENT
BEGIN:VEVENT
DTSTART;TZID=UTC:20240927T190000
DTEND;TZID=UTC:20240927T220000
DTSTAMP:20260426T031126
CREATED:20240814T143505Z
LAST-MODIFIED:20240814T143505Z
UID:4031-1727463600-1727474400@www.pdangelo.com
SUMMARY:Lakeport Opera House\, Laconia\, NH
DESCRIPTION:featuring Mitch Stinson and Carolyn Plummer
URL:https://www.pdangelo.com/site/event/lakeport-opera-house-laconia-nh-2/
LOCATION:Lakeport Opera House\, Laconia\, 781 Union Avenue\, Laconia\, NH\, 03246\, United States
END:VEVENT
BEGIN:VEVENT
DTSTART;TZID=UTC:20240928T193000
DTEND;TZID=UTC:20240928T213000
DTSTAMP:20260426T031126
CREATED:20240811T164058Z
LAST-MODIFIED:20240811T164058Z
UID:4028-1727551800-1727559000@www.pdangelo.com
SUMMARY:The Cut theater\, Gloucester\, MA
DESCRIPTION:
URL:https://www.pdangelo.com/site/event/the-cut-theater-gloucester-ma/
LOCATION:The Cut\, Gloucester\, 177 Main Street\, Gloucester\, MA\, 01930\, United States
END:VEVENT
END:VCALENDAR