BEGIN:VCALENDAR
VERSION:2.0
PRODID:-//Paul D&#039;Angelo - ECPv6.9.0//NONSGML v1.0//EN
CALSCALE:GREGORIAN
METHOD:PUBLISH
X-WR-CALNAME:Paul D&#039;Angelo
X-ORIGINAL-URL:https://www.pdangelo.com/site
X-WR-CALDESC:Events for Paul D&#039;Angelo
REFRESH-INTERVAL;VALUE=DURATION:PT1H
X-Robots-Tag:noindex
X-PUBLISHED-TTL:PT1H
BEGIN:VTIMEZONE
TZID:UTC
BEGIN:STANDARD
TZOFFSETFROM:+0000
TZOFFSETTO:+0000
TZNAME:UTC
DTSTART:20220101T000000
END:STANDARD
END:VTIMEZONE
BEGIN:VEVENT
DTSTART;TZID=UTC:20220304T200000
DTEND;TZID=UTC:20220304T220000
DTSTAMP:20260425T102825
CREATED:20211209T180217Z
LAST-MODIFIED:20211209T180217Z
UID:3182-1646424000-1646431200@www.pdangelo.com
SUMMARY:fundraising event at Ashworth-by-the-Sea\, Hampton Beach\, NH
DESCRIPTION:event to benefit the Seabrook Police Association
URL:https://www.pdangelo.com/site/event/fundraising-event-at-ashworth-by-the-sea-hampton-beach-nh-2/
LOCATION:Ashworth by the Sea\, Hampton\, NH\, 295 Ocean Blvd\, Hampton Beach\, NH\, 03842\, United States
END:VEVENT
BEGIN:VEVENT
DTSTART;TZID=UTC:20220305T200000
DTEND;TZID=UTC:20220305T220000
DTSTAMP:20260425T102825
CREATED:20211117T160416Z
LAST-MODIFIED:20211117T160416Z
UID:3161-1646510400-1646517600@www.pdangelo.com
SUMMARY:Fulchino Vineyards\, Hollis\, NH
DESCRIPTION:
URL:https://www.pdangelo.com/site/event/fulchino-vineyards-hollis-nh/
LOCATION:Fulchino Vineyards\, Hollis\, NH\, 187 Pine Hill Road\, Hollis\, NH\, 03049\, United States
END:VEVENT
BEGIN:VEVENT
DTSTART;TZID=UTC:20220311T200000
DTEND;TZID=UTC:20220311T220000
DTSTAMP:20260425T102825
CREATED:20220124T203618Z
LAST-MODIFIED:20220124T203630Z
UID:3213-1647028800-1647036000@www.pdangelo.com
SUMMARY:Kowloon Komedy
DESCRIPTION:
URL:https://www.pdangelo.com/site/event/kowloon-komedy-3/
LOCATION:Kowloon Restaurant\, 948 Broadway\, Saugus\, MA\, 01906\, United States
END:VEVENT
BEGIN:VEVENT
DTSTART;TZID=UTC:20220318T203000
DTEND;TZID=UTC:20220318T223000
DTSTAMP:20260425T102825
CREATED:20211029T191056Z
LAST-MODIFIED:20211029T191056Z
UID:3139-1647635400-1647642600@www.pdangelo.com
SUMMARY:Giggles Comedy Club
DESCRIPTION:
URL:https://www.pdangelo.com/site/event/giggles-comedy-club-45/
LOCATION:Giggles Comedy Club / Prince Restaurant\, 517 Broadway (Route #1 SB)\, Saugus\, MA\, 01906\, United States
END:VEVENT
BEGIN:VEVENT
DTSTART;TZID=UTC:20220319T203000
DTEND;TZID=UTC:20220319T223000
DTSTAMP:20260425T102825
CREATED:20211029T191215Z
LAST-MODIFIED:20211029T191215Z
UID:3141-1647721800-1647729000@www.pdangelo.com
SUMMARY:Giggles Comedy Club
DESCRIPTION:
URL:https://www.pdangelo.com/site/event/giggles-comedy-club-46/
LOCATION:Giggles Comedy Club / Prince Restaurant\, 517 Broadway (Route #1 SB)\, Saugus\, MA\, 01906\, United States
END:VEVENT
END:VCALENDAR