BEGIN:VCALENDAR
VERSION:2.0
PRODID:-//Paul D&#039;Angelo - ECPv6.9.0//NONSGML v1.0//EN
CALSCALE:GREGORIAN
METHOD:PUBLISH
X-WR-CALNAME:Paul D&#039;Angelo
X-ORIGINAL-URL:https://www.pdangelo.com/site
X-WR-CALDESC:Events for Paul D&#039;Angelo
REFRESH-INTERVAL;VALUE=DURATION:PT1H
X-Robots-Tag:noindex
X-PUBLISHED-TTL:PT1H
BEGIN:VTIMEZONE
TZID:UTC
BEGIN:STANDARD
TZOFFSETFROM:+0000
TZOFFSETTO:+0000
TZNAME:UTC
DTSTART:20240101T000000
END:STANDARD
END:VTIMEZONE
BEGIN:VEVENT
DTSTART;TZID=UTC:20241206T200000
DTEND;TZID=UTC:20241206T200000
DTSTAMP:20260420T014549
CREATED:20240503T154807Z
LAST-MODIFIED:20240503T154807Z
UID:3935-1733515200-1733515200@www.pdangelo.com
SUMMARY:Annual weekend at Foster CC\, Foster\, RI
DESCRIPTION:
URL:https://www.pdangelo.com/site/event/annual-weekend-at-foster-cc-foster-ri/
LOCATION:Foster Country Club\, 67 Johnson Road\, Foster\, RI\, 02825\, United States
END:VEVENT
BEGIN:VEVENT
DTSTART;TZID=UTC:20241207T200000
DTEND;TZID=UTC:20241207T220000
DTSTAMP:20260420T014549
CREATED:20240503T154941Z
LAST-MODIFIED:20240503T154941Z
UID:3937-1733601600-1733608800@www.pdangelo.com
SUMMARY:Annual weekend at Foster CC\, Foster\, RI
DESCRIPTION:
URL:https://www.pdangelo.com/site/event/annual-weekend-at-foster-cc-foster-ri-2/
LOCATION:Foster Country Club\, 67 Johnson Road\, Foster\, RI\, 02825\, United States
END:VEVENT
END:VCALENDAR