BEGIN:VCALENDAR
VERSION:2.0
PRODID:-//Paul D&#039;Angelo - ECPv6.9.0//NONSGML v1.0//EN
CALSCALE:GREGORIAN
METHOD:PUBLISH
X-ORIGINAL-URL:https://www.pdangelo.com/site
X-WR-CALDESC:Events for Paul D&#039;Angelo
REFRESH-INTERVAL;VALUE=DURATION:PT1H
X-Robots-Tag:noindex
X-PUBLISHED-TTL:PT1H
BEGIN:VTIMEZONE
TZID:UTC
BEGIN:STANDARD
TZOFFSETFROM:+0000
TZOFFSETTO:+0000
TZNAME:UTC
DTSTART:20170101T000000
END:STANDARD
END:VTIMEZONE
BEGIN:VEVENT
DTSTART;TZID=UTC:20170421T200000
DTEND;TZID=UTC:20170421T220000
DTSTAMP:20260425T162713
CREATED:20170222T214501Z
LAST-MODIFIED:20170222T214501Z
UID:1825-1492804800-1492812000@www.pdangelo.com
SUMMARY:fundraising event at Best Western Hotel\, Keene\, NH
DESCRIPTION:
URL:https://www.pdangelo.com/site/event/fundraising-event-at-best-western-hotel-keene-nh/
LOCATION:Best Western\, Keene\, NH\, 401 Winchester Street\, Keene\, NH\, 03431\, United States
END:VEVENT
END:VCALENDAR