BEGIN:VCALENDAR
VERSION:2.0
PRODID:-//Paul D&#039;Angelo - ECPv6.9.0//NONSGML v1.0//EN
CALSCALE:GREGORIAN
METHOD:PUBLISH
X-ORIGINAL-URL:https://www.pdangelo.com/site
X-WR-CALDESC:Events for Paul D&#039;Angelo
REFRESH-INTERVAL;VALUE=DURATION:PT1H
X-Robots-Tag:noindex
X-PUBLISHED-TTL:PT1H
BEGIN:VTIMEZONE
TZID:UTC
BEGIN:STANDARD
TZOFFSETFROM:+0000
TZOFFSETTO:+0000
TZNAME:UTC
DTSTART:20240101T000000
END:STANDARD
END:VTIMEZONE
BEGIN:VEVENT
DTSTART;TZID=UTC:20241101T190000
DTEND;TZID=UTC:20241101T220000
DTSTAMP:20260420T213142
CREATED:20240905T195851Z
LAST-MODIFIED:20240905T195851Z
UID:4038-1730487600-1730498400@www.pdangelo.com
SUMMARY:Luna Rossa\, Tewksbury
DESCRIPTION:with singer Joey Canzano
URL:https://www.pdangelo.com/site/event/luna-rossa-tewksbury/
LOCATION:Luna Rossa\, Tewksbury\, 1699 Shawsheen Street\, Tewksbury\, MA\, 01876\, United States
END:VEVENT
END:VCALENDAR