BEGIN:VCALENDAR
VERSION:2.0
PRODID:-//Paul D&#039;Angelo - ECPv6.9.0//NONSGML v1.0//EN
CALSCALE:GREGORIAN
METHOD:PUBLISH
X-WR-CALNAME:Paul D&#039;Angelo
X-ORIGINAL-URL:https://www.pdangelo.com/site
X-WR-CALDESC:Events for Paul D&#039;Angelo
REFRESH-INTERVAL;VALUE=DURATION:PT1H
X-Robots-Tag:noindex
X-PUBLISHED-TTL:PT1H
BEGIN:VTIMEZONE
TZID:UTC
BEGIN:STANDARD
TZOFFSETFROM:+0000
TZOFFSETTO:+0000
TZNAME:UTC
DTSTART:20150101T000000
END:STANDARD
END:VTIMEZONE
BEGIN:VEVENT
DTSTART;TZID=UTC:20150803T183000
DTEND;TZID=UTC:20150803T193000
DTSTAMP:20260420T065633
CREATED:20150629T204832Z
LAST-MODIFIED:20150707T223522Z
UID:996-1438626600-1438630200@www.pdangelo.com
SUMMARY:Golf Tourney fundraiser for Jocelyn Clinic\, Kernwood CC
DESCRIPTION:
URL:https://www.pdangelo.com/site/event/wakefield-hs-football-fundraiser-beverly-golf-tennis/
LOCATION:Kernwood Country Club\, 1 Kernwood Street\, Salem\, MA\, 01970\, United States
END:VEVENT
END:VCALENDAR