BEGIN:VCALENDAR
VERSION:2.0
PRODID:-//Paul D&#039;Angelo - ECPv6.9.0//NONSGML v1.0//EN
CALSCALE:GREGORIAN
METHOD:PUBLISH
X-ORIGINAL-URL:https://www.pdangelo.com/site
X-WR-CALDESC:Events for Paul D&#039;Angelo
REFRESH-INTERVAL;VALUE=DURATION:PT1H
X-Robots-Tag:noindex
X-PUBLISHED-TTL:PT1H
BEGIN:VTIMEZONE
TZID:UTC
BEGIN:STANDARD
TZOFFSETFROM:+0000
TZOFFSETTO:+0000
TZNAME:UTC
DTSTART:20200101T000000
END:STANDARD
END:VTIMEZONE
BEGIN:VEVENT
DTSTART;TZID=UTC:20201113T200000
DTEND;TZID=UTC:20201113T220000
DTSTAMP:20260425T235648
CREATED:20200212T155130Z
LAST-MODIFIED:20200930T152952Z
UID:2859-1605297600-1605304800@www.pdangelo.com
SUMMARY:CANCELED: disabled veteran's fundraising event at Irish-American Club\, Malden
DESCRIPTION:
URL:https://www.pdangelo.com/site/event/disabled-veterans-fundraising-event-at-irish-american-club-malden/
LOCATION:Irish-American Club\, Malden\, 177 West Street\, Malden\, MA\, 02148
END:VEVENT
BEGIN:VEVENT
DTSTART;TZID=UTC:20201113T200000
DTEND;TZID=UTC:20201113T220000
DTSTAMP:20260425T235648
CREATED:20201022T145246Z
LAST-MODIFIED:20201022T145246Z
UID:3014-1605297600-1605304800@www.pdangelo.com
SUMMARY:special event: Rex Theatre\, Manchester NH
DESCRIPTION:Paul D’Angelo presents a videotaping of his special “COVID-iots” show
URL:https://www.pdangelo.com/site/event/special-event-rex-theatre-manchester-nh/
LOCATION:The Rex Theatre\, Manchester\, NH\, 23 Amherst Street\, Manchester\, NH\, 03101\, United States
END:VEVENT
END:VCALENDAR