BEGIN:VCALENDAR
VERSION:2.0
PRODID:-//Paul D&#039;Angelo - ECPv6.9.0//NONSGML v1.0//EN
CALSCALE:GREGORIAN
METHOD:PUBLISH
X-WR-CALNAME:Paul D&#039;Angelo
X-ORIGINAL-URL:https://www.pdangelo.com/site
X-WR-CALDESC:Events for Paul D&#039;Angelo
REFRESH-INTERVAL;VALUE=DURATION:PT1H
X-Robots-Tag:noindex
X-PUBLISHED-TTL:PT1H
BEGIN:VTIMEZONE
TZID:UTC
BEGIN:STANDARD
TZOFFSETFROM:+0000
TZOFFSETTO:+0000
TZNAME:UTC
DTSTART:20250101T000000
END:STANDARD
END:VTIMEZONE
BEGIN:VEVENT
DTSTART;TZID=UTC:20250301T200000
DTEND;TZID=UTC:20250301T220000
DTSTAMP:20260425T202619
CREATED:20250122T170001Z
LAST-MODIFIED:20250122T170001Z
UID:4119-1740859200-1740866400@www.pdangelo.com
SUMMARY:comedy event at Wareham Elks
DESCRIPTION:
URL:https://www.pdangelo.com/site/event/comedy-event-at-wareham-elks/
LOCATION:Wareham Elks\, 2855 Cranberry Highway\, Wareham\, MA\, 02571\, United States
END:VEVENT
BEGIN:VEVENT
DTSTART;TZID=UTC:20250307T200000
DTEND;TZID=UTC:20250307T220000
DTSTAMP:20260425T202619
CREATED:20241121T164219Z
LAST-MODIFIED:20241121T164219Z
UID:4088-1741377600-1741384800@www.pdangelo.com
SUMMARY:Kowloon Komedy
DESCRIPTION:
URL:https://www.pdangelo.com/site/event/kowloon-komedy-14/
LOCATION:Kowloon Restaurant\, 948 Broadway\, Saugus\, MA\, 01906\, United States
END:VEVENT
BEGIN:VEVENT
DTSTART;TZID=UTC:20250308T200000
DTEND;TZID=UTC:20250308T220000
DTSTAMP:20260425T202619
CREATED:20250109T180154Z
LAST-MODIFIED:20250109T180154Z
UID:4108-1741464000-1741471200@www.pdangelo.com
SUMMARY:comedy fundraiser at Hudson (NH) Recreation Center
DESCRIPTION:
URL:https://www.pdangelo.com/site/event/comedy-fundraiser-at-hudson-nh-recreation-center/
LOCATION:Hudson NH Recreation Center\, 12 Lions Avenue\, Hudson\, NH\, 03051\, United States
END:VEVENT
BEGIN:VEVENT
DTSTART;TZID=UTC:20250313T200000
DTEND;TZID=UTC:20250313T220000
DTSTAMP:20260425T202619
CREATED:20240811T163749Z
LAST-MODIFIED:20240811T163749Z
UID:4026-1741896000-1741903200@www.pdangelo.com
SUMMARY:fundraising event at Giggles Comedy Club
DESCRIPTION:
URL:https://www.pdangelo.com/site/event/fundraising-event-at-giggles-comedy-club-19/
LOCATION:Giggles Comedy Club / Prince Restaurant\, 517 Broadway (Route #1 SB)\, Saugus\, MA\, 01906\, United States
END:VEVENT
BEGIN:VEVENT
DTSTART;TZID=UTC:20250314T203000
DTEND;TZID=UTC:20250314T220000
DTSTAMP:20260425T202619
CREATED:20240811T163522Z
LAST-MODIFIED:20240811T163522Z
UID:4022-1741984200-1741989600@www.pdangelo.com
SUMMARY:Giggles Comedy Club
DESCRIPTION:
URL:https://www.pdangelo.com/site/event/giggles-comedy-club-74/
LOCATION:Giggles Comedy Club / Prince Restaurant\, 517 Broadway (Route #1 SB)\, Saugus\, MA\, 01906\, United States
END:VEVENT
BEGIN:VEVENT
DTSTART;TZID=UTC:20250315T203000
DTEND;TZID=UTC:20250315T220000
DTSTAMP:20260425T202619
CREATED:20240811T163631Z
LAST-MODIFIED:20240811T163631Z
UID:4024-1742070600-1742076000@www.pdangelo.com
SUMMARY:Giggles Comedy Club
DESCRIPTION:
URL:https://www.pdangelo.com/site/event/giggles-comedy-club-75/
LOCATION:Giggles Comedy Club / Prince Restaurant\, 517 Broadway (Route #1 SB)\, Saugus\, MA\, 01906\, United States
END:VEVENT
BEGIN:VEVENT
DTSTART;TZID=UTC:20250317T080000
DTEND;TZID=UTC:20250317T100000
DTSTAMP:20260425T202619
CREATED:20250208T185537Z
LAST-MODIFIED:20250208T185537Z
UID:4142-1742198400-1742205600@www.pdangelo.com
SUMMARY:Haverhill Exchange Club 23rd Annual St. Patrick's Day breakfast at Haverhill CC
DESCRIPTION:
URL:https://www.pdangelo.com/site/event/haverhill-exchange-club-23rd-annual-st-patricks-day-breakfast-at-haverhill-cc/
LOCATION:Haverhill Country Club\, 58 Brickett Lane\, Haverhill\, MA\, 01830\, United States
END:VEVENT
BEGIN:VEVENT
DTSTART;TZID=UTC:20250328T193000
DTEND;TZID=UTC:20250328T210000
DTSTAMP:20260425T202619
CREATED:20250219T035024Z
LAST-MODIFIED:20250219T035429Z
UID:4156-1743190200-1743195600@www.pdangelo.com
SUMMARY:Nick's Comedy Stop\, Boston
DESCRIPTION:
URL:https://www.pdangelo.com/site/event/nicks-comedy-stop-boston/
LOCATION:Nick’s Comedy Stop\, Boston\, 100 Warrenton Street\, Boston\, 02116\, United States
END:VEVENT
BEGIN:VEVENT
DTSTART;TZID=UTC:20250329T180000
DTEND;TZID=UTC:20250329T223000
DTSTAMP:20260425T202619
CREATED:20250226T163142Z
LAST-MODIFIED:20250226T163142Z
UID:4160-1743271200-1743287400@www.pdangelo.com
SUMMARY:comedy at the Cubist-Circle Restaurant in Weymouth\, MA
DESCRIPTION:2 shows at 6:00 and 8:30pm with special guests BIll Farrell and Paul Keenan
URL:https://www.pdangelo.com/site/event/comedy-at-the-cubist-circle-restaurant-in-weymouth-ma/
LOCATION:Cubist-Circle Restaurant\, Weymouth\, 625 Washington Street\, Weymouth\, MA\, 02188\, United States
END:VEVENT
END:VCALENDAR