BEGIN:VCALENDAR
VERSION:2.0
PRODID:-//Paul D&#039;Angelo - ECPv6.9.0//NONSGML v1.0//EN
CALSCALE:GREGORIAN
METHOD:PUBLISH
X-ORIGINAL-URL:https://www.pdangelo.com/site
X-WR-CALDESC:Events for Paul D&#039;Angelo
REFRESH-INTERVAL;VALUE=DURATION:PT1H
X-Robots-Tag:noindex
X-PUBLISHED-TTL:PT1H
BEGIN:VTIMEZONE
TZID:UTC
BEGIN:STANDARD
TZOFFSETFROM:+0000
TZOFFSETTO:+0000
TZNAME:UTC
DTSTART:20260101T000000
END:STANDARD
END:VTIMEZONE
BEGIN:VEVENT
DTSTART;TZID=UTC:20261202T190000
DTEND;TZID=UTC:20261202T230000
DTSTAMP:20260421T235202
CREATED:20260407T162859Z
LAST-MODIFIED:20260407T162859Z
UID:4528-1796238000-1796252400@www.pdangelo.com
SUMMARY:Hosting the 65th anniversary event for The Italian Brotherhood at the Roma in Haverhill
DESCRIPTION:
URL:https://www.pdangelo.com/site/event/hosting-the-65th-anniversary-event-for-the-italian-brotherhood-at-the-roma-in-haverhill/
LOCATION:Roma Restaurant\, Haverhill\, 29 Middlesex Street\, Haverhill\, MA\, 01835\, United States
END:VEVENT
END:VCALENDAR