BEGIN:VCALENDAR
VERSION:2.0
PRODID:-//Paul D&#039;Angelo - ECPv6.9.0//NONSGML v1.0//EN
CALSCALE:GREGORIAN
METHOD:PUBLISH
X-ORIGINAL-URL:https://www.pdangelo.com/site
X-WR-CALDESC:Events for Paul D&#039;Angelo
REFRESH-INTERVAL;VALUE=DURATION:PT1H
X-Robots-Tag:noindex
X-PUBLISHED-TTL:PT1H
BEGIN:VTIMEZONE
TZID:UTC
BEGIN:STANDARD
TZOFFSETFROM:+0000
TZOFFSETTO:+0000
TZNAME:UTC
DTSTART:20180101T000000
END:STANDARD
END:VTIMEZONE
BEGIN:VEVENT
DTSTART;TZID=UTC:20180821T190000
DTEND;TZID=UTC:20180821T210000
DTSTAMP:20260422T125726
CREATED:20180614T152724Z
LAST-MODIFIED:20180614T152724Z
UID:2193-1534878000-1534885200@www.pdangelo.com
SUMMARY:Central Mass Police Chiefs conference\, Colonial Hotel\, Gardner\, MA
DESCRIPTION:
URL:https://www.pdangelo.com/site/event/central-mass-police-chiefs-conference-colonial-hotel-gardner-ma/
LOCATION:Colonial Hotel\, 625 Betty Spring Road\, Gardner\, MA\, 01440\, United States
END:VEVENT
END:VCALENDAR