BEGIN:VCALENDAR
VERSION:2.0
PRODID:-//Paul D&#039;Angelo - ECPv6.9.0//NONSGML v1.0//EN
CALSCALE:GREGORIAN
METHOD:PUBLISH
X-WR-CALNAME:Paul D&#039;Angelo
X-ORIGINAL-URL:https://www.pdangelo.com/site
X-WR-CALDESC:Events for Paul D&#039;Angelo
REFRESH-INTERVAL;VALUE=DURATION:PT1H
X-Robots-Tag:noindex
X-PUBLISHED-TTL:PT1H
BEGIN:VTIMEZONE
TZID:UTC
BEGIN:STANDARD
TZOFFSETFROM:+0000
TZOFFSETTO:+0000
TZNAME:UTC
DTSTART:20180101T000000
END:STANDARD
END:VTIMEZONE
BEGIN:VEVENT
DTSTART;TZID=UTC:20180526T193000
DTEND;TZID=UTC:20180526T213000
DTSTAMP:20260424T211136
CREATED:20180327T173740Z
LAST-MODIFIED:20180327T173740Z
UID:2140-1527363000-1527370200@www.pdangelo.com
SUMMARY:Carousel Theater\, Boothbay Harbor\, Maine
DESCRIPTION:
URL:https://www.pdangelo.com/site/event/carousel-theater-boothbay-harbor-maine/
LOCATION:Carousel Theater\, Boothbay Harbor\, ME\, 196 Townsend Avenue\, Boothbay Harbor\, ME\, 04538\, United States
END:VEVENT
END:VCALENDAR