BEGIN:VCALENDAR
VERSION:2.0
PRODID:-//Paul D&#039;Angelo - ECPv6.9.0//NONSGML v1.0//EN
CALSCALE:GREGORIAN
METHOD:PUBLISH
X-WR-CALNAME:Paul D&#039;Angelo
X-ORIGINAL-URL:https://www.pdangelo.com/site
X-WR-CALDESC:Events for Paul D&#039;Angelo
REFRESH-INTERVAL;VALUE=DURATION:PT1H
X-Robots-Tag:noindex
X-PUBLISHED-TTL:PT1H
BEGIN:VTIMEZONE
TZID:UTC
BEGIN:STANDARD
TZOFFSETFROM:+0000
TZOFFSETTO:+0000
TZNAME:UTC
DTSTART:20180101T000000
END:STANDARD
END:VTIMEZONE
BEGIN:VEVENT
DTSTART;TZID=UTC:20180524T190000
DTEND;TZID=UTC:20180524T210000
DTSTAMP:20260424T153223
CREATED:20180330T162626Z
LAST-MODIFIED:20180330T170754Z
UID:2146-1527188400-1527195600@www.pdangelo.com
SUMMARY:fundraising event at Blue Ocean Music Hall\, Salisbury\, MA
DESCRIPTION:Berkshire-Hathaway-Verani Realty sponsored fundraiser to benefit Homeless Veterans
URL:https://www.pdangelo.com/site/event/fundraising-event-at-blue-ocean-music-hall-salisbury-ma/
LOCATION:Blue Ocean Music Hall\, Salisbury\, 4 Oceanfront North\, Salisbury\, MA\, 01952\, United States
END:VEVENT
END:VCALENDAR