BEGIN:VCALENDAR
VERSION:2.0
PRODID:-//Paul D&#039;Angelo - ECPv6.9.0//NONSGML v1.0//EN
CALSCALE:GREGORIAN
METHOD:PUBLISH
X-ORIGINAL-URL:https://www.pdangelo.com/site
X-WR-CALDESC:Events for Paul D&#039;Angelo
REFRESH-INTERVAL;VALUE=DURATION:PT1H
X-Robots-Tag:noindex
X-PUBLISHED-TTL:PT1H
BEGIN:VTIMEZONE
TZID:UTC
BEGIN:STANDARD
TZOFFSETFROM:+0000
TZOFFSETTO:+0000
TZNAME:UTC
DTSTART:20180101T000000
END:STANDARD
END:VTIMEZONE
BEGIN:VEVENT
DTSTART;TZID=UTC:20180518T190000
DTEND;TZID=UTC:20180518T200000
DTSTAMP:20260424T101621
CREATED:20180201T190751Z
LAST-MODIFIED:20180201T190751Z
UID:2094-1526670000-1526673600@www.pdangelo.com
SUMMARY:fundraising event at Shriner's Auditorium\, Wilmington\, MA
DESCRIPTION:
URL:https://www.pdangelo.com/site/event/fundraising-event-at-shriners-auditorium-wilmington-ma/
LOCATION:Shriner’s Hall\, Wilmington\, 99 Fordham Road\, Wilmington\, MA\, 01887\, United States
END:VEVENT
BEGIN:VEVENT
DTSTART;TZID=UTC:20180518T200000
DTEND;TZID=UTC:20180518T220000
DTSTAMP:20260424T101621
CREATED:20180125T054506Z
LAST-MODIFIED:20180125T054506Z
UID:2085-1526673600-1526680800@www.pdangelo.com
SUMMARY:fundraising event at Woburn Country Club
DESCRIPTION:
URL:https://www.pdangelo.com/site/event/fundraising-event-at-woburn-country-club/
LOCATION:Woburn Country Club\, 5 Country Club Road\, Woburn\, MA\, 01801\, United States
END:VEVENT
END:VCALENDAR