BEGIN:VCALENDAR
VERSION:2.0
PRODID:-//Paul D&#039;Angelo - ECPv6.9.0//NONSGML v1.0//EN
CALSCALE:GREGORIAN
METHOD:PUBLISH
X-ORIGINAL-URL:https://www.pdangelo.com/site
X-WR-CALDESC:Events for Paul D&#039;Angelo
REFRESH-INTERVAL;VALUE=DURATION:PT1H
X-Robots-Tag:noindex
X-PUBLISHED-TTL:PT1H
BEGIN:VTIMEZONE
TZID:UTC
BEGIN:STANDARD
TZOFFSETFROM:+0000
TZOFFSETTO:+0000
TZNAME:UTC
DTSTART:20180101T000000
END:STANDARD
END:VTIMEZONE
BEGIN:VEVENT
DTSTART;TZID=UTC:20180505T203000
DTEND;TZID=UTC:20180505T220000
DTSTAMP:20260424T204332
CREATED:20180201T191519Z
LAST-MODIFIED:20180220T195854Z
UID:2096-1525552200-1525557600@www.pdangelo.com
SUMMARY:fundraising event at Wakefield Elks
DESCRIPTION:
URL:https://www.pdangelo.com/site/event/fundraising-event-at-wakefield-elks/
LOCATION:Wakefield Elks\, 63 Bay State Road\, Wakefield\, MA\, 01880\, United States
END:VEVENT
END:VCALENDAR