BEGIN:VCALENDAR
VERSION:2.0
PRODID:-//Paul D&#039;Angelo - ECPv6.9.0//NONSGML v1.0//EN
CALSCALE:GREGORIAN
METHOD:PUBLISH
X-ORIGINAL-URL:https://www.pdangelo.com/site
X-WR-CALDESC:Events for Paul D&#039;Angelo
REFRESH-INTERVAL;VALUE=DURATION:PT1H
X-Robots-Tag:noindex
X-PUBLISHED-TTL:PT1H
BEGIN:VTIMEZONE
TZID:UTC
BEGIN:STANDARD
TZOFFSETFROM:+0000
TZOFFSETTO:+0000
TZNAME:UTC
DTSTART:20180101T000000
END:STANDARD
END:VTIMEZONE
BEGIN:VEVENT
DTSTART;TZID=UTC:20180413T200000
DTEND;TZID=UTC:20180413T220000
DTSTAMP:20260425T140317
CREATED:20171201T153645Z
LAST-MODIFIED:20171201T153645Z
UID:2047-1523649600-1523656800@www.pdangelo.com
SUMMARY:fundraising event at Radisson Inn\, Chelmsford\, MA
DESCRIPTION:
URL:https://www.pdangelo.com/site/event/fundraising-event-at-radisson-inn-chelmsford-ma/
LOCATION:Radisson Hotel & Suites Chelmsford-Lowell\, 10 Independence Drive\, Chelmsford\, MA\, 01824\, United States
END:VEVENT
END:VCALENDAR