BEGIN:VCALENDAR
VERSION:2.0
PRODID:-//Paul D&#039;Angelo - ECPv6.9.0//NONSGML v1.0//EN
CALSCALE:GREGORIAN
METHOD:PUBLISH
X-ORIGINAL-URL:https://www.pdangelo.com/site
X-WR-CALDESC:Events for Paul D&#039;Angelo
REFRESH-INTERVAL;VALUE=DURATION:PT1H
X-Robots-Tag:noindex
X-PUBLISHED-TTL:PT1H
BEGIN:VTIMEZONE
TZID:UTC
BEGIN:STANDARD
TZOFFSETFROM:+0000
TZOFFSETTO:+0000
TZNAME:UTC
DTSTART:20180101T000000
END:STANDARD
END:VTIMEZONE
BEGIN:VEVENT
DTSTART;TZID=UTC:20180412T200000
DTEND;TZID=UTC:20180412T220000
DTSTAMP:20260425T140320
CREATED:20171204T214144Z
LAST-MODIFIED:20171204T214144Z
UID:2051-1523563200-1523570400@www.pdangelo.com
SUMMARY:Children's Melanoma Prevention Foundation fundraiser at Showcase Live!\, Foxboro\, MA
DESCRIPTION:
URL:https://www.pdangelo.com/site/event/childrens-melanoma-prevention-foundation-fundraiser-at-showcase-live-foxboro-ma/
LOCATION:Showcase Live! Foxborough\, 23 Patriot Place\, Foxborough\, MA\, 02035\, United States
END:VEVENT
END:VCALENDAR