BEGIN:VCALENDAR
VERSION:2.0
PRODID:-//Paul D&#039;Angelo - ECPv6.9.0//NONSGML v1.0//EN
CALSCALE:GREGORIAN
METHOD:PUBLISH
X-ORIGINAL-URL:https://www.pdangelo.com/site
X-WR-CALDESC:Events for Paul D&#039;Angelo
REFRESH-INTERVAL;VALUE=DURATION:PT1H
X-Robots-Tag:noindex
X-PUBLISHED-TTL:PT1H
BEGIN:VTIMEZONE
TZID:UTC
BEGIN:STANDARD
TZOFFSETFROM:+0000
TZOFFSETTO:+0000
TZNAME:UTC
DTSTART:20170101T000000
END:STANDARD
END:VTIMEZONE
BEGIN:VEVENT
DTSTART;TZID=UTC:20171206T180000
DTEND;TZID=UTC:20171206T220000
DTSTAMP:20260425T195001
CREATED:20171004T145943Z
LAST-MODIFIED:20171004T145943Z
UID:1989-1512583200-1512597600@www.pdangelo.com
SUMMARY:Holiday Comedy Night at The Log Cabin\, Holyoke\, MA
DESCRIPTION:for tickets: www.thelogcabin.com or (413) 535-5077
URL:https://www.pdangelo.com/site/event/holiday-comedy-night-at-the-log-cabin-holyoke-ma/
LOCATION:The Log Cabin\, Holyoke\, 500 Easthampton Road\, Holyoke\, MA\, 01040\, United States
END:VEVENT
END:VCALENDAR