BEGIN:VCALENDAR
VERSION:2.0
PRODID:-//Paul D&#039;Angelo - ECPv6.9.0//NONSGML v1.0//EN
CALSCALE:GREGORIAN
METHOD:PUBLISH
X-WR-CALNAME:Paul D&#039;Angelo
X-ORIGINAL-URL:https://www.pdangelo.com/site
X-WR-CALDESC:Events for Paul D&#039;Angelo
REFRESH-INTERVAL;VALUE=DURATION:PT1H
X-Robots-Tag:noindex
X-PUBLISHED-TTL:PT1H
BEGIN:VTIMEZONE
TZID:UTC
BEGIN:STANDARD
TZOFFSETFROM:+0000
TZOFFSETTO:+0000
TZNAME:UTC
DTSTART:20170101T000000
END:STANDARD
END:VTIMEZONE
BEGIN:VEVENT
DTSTART;TZID=UTC:20171012T163000
DTEND;TZID=UTC:20171012T180000
DTSTAMP:20260426T031834
CREATED:20170413T214548Z
LAST-MODIFIED:20170413T214548Z
UID:1855-1507825800-1507831200@www.pdangelo.com
SUMMARY:convention at Hyatt Regency Hotel\, Boston
DESCRIPTION:
URL:https://www.pdangelo.com/site/event/convention-at-hyatt-regency-hotel-boston/
LOCATION:Hyatt Regency\, Boston\, 1 Avenue de Lafayette\, Boston\, MA\, 02111\, United States
END:VEVENT
END:VCALENDAR