BEGIN:VCALENDAR
VERSION:2.0
PRODID:-//Paul D&#039;Angelo - ECPv6.9.0//NONSGML v1.0//EN
CALSCALE:GREGORIAN
METHOD:PUBLISH
X-ORIGINAL-URL:https://www.pdangelo.com/site
X-WR-CALDESC:Events for Paul D&#039;Angelo
REFRESH-INTERVAL;VALUE=DURATION:PT1H
X-Robots-Tag:noindex
X-PUBLISHED-TTL:PT1H
BEGIN:VTIMEZONE
TZID:UTC
BEGIN:STANDARD
TZOFFSETFROM:+0000
TZOFFSETTO:+0000
TZNAME:UTC
DTSTART:20180101T000000
END:STANDARD
END:VTIMEZONE
BEGIN:VEVENT
DTSTART;TZID=UTC:20180602T200000
DTEND;TZID=UTC:20180602T220000
DTSTAMP:20260423T043337
CREATED:20180315T184138Z
LAST-MODIFIED:20180315T184138Z
UID:2130-1527969600-1527976800@www.pdangelo.com
SUMMARY:fundraiser for Friends of Norwood Center
DESCRIPTION:
URL:https://www.pdangelo.com/site/event/fundraiser-for-friends-of-norwood-center/
LOCATION:Norwood Space Center\, 83 Morse Street\, Norwood\, MA\, 02062\, United States
ORGANIZER;CN="Collins Comedy Events":MAILTO:pcollinscomedy@gmail.com
END:VEVENT
BEGIN:VEVENT
DTSTART;TZID=UTC:20180608T203000
DTEND;TZID=UTC:20180608T223000
DTSTAMP:20260423T043337
CREATED:20180116T232331Z
LAST-MODIFIED:20180116T232331Z
UID:2072-1528489800-1528497000@www.pdangelo.com
SUMMARY:Giggles Comedy Club at Prince Restaurant
DESCRIPTION:
URL:https://www.pdangelo.com/site/event/giggles-comedy-club-at-prince-restaurant-4/
LOCATION:Giggles Comedy Club / Prince Restaurant\, 517 Broadway (Route #1 SB)\, Saugus\, MA\, 01906\, United States
END:VEVENT
BEGIN:VEVENT
DTSTART;TZID=UTC:20180609T203000
DTEND;TZID=UTC:20180609T223000
DTSTAMP:20260423T043337
CREATED:20180116T232440Z
LAST-MODIFIED:20180116T232440Z
UID:2074-1528576200-1528583400@www.pdangelo.com
SUMMARY:Giggles Comedy Club at Prince Restaurant
DESCRIPTION:
URL:https://www.pdangelo.com/site/event/giggles-comedy-club-at-prince-restaurant-5/
LOCATION:Giggles Comedy Club / Prince Restaurant\, 517 Broadway (Route #1 SB)\, Saugus\, MA\, 01906\, United States
END:VEVENT
BEGIN:VEVENT
DTSTART;TZID=UTC:20180611T180000
DTEND;TZID=UTC:20180611T200000
DTSTAMP:20260423T043337
CREATED:20180412T174436Z
LAST-MODIFIED:20180412T174436Z
UID:2161-1528740000-1528747200@www.pdangelo.com
SUMMARY:'Understanding Cam Foundation' event at Ferncroft Country Club
DESCRIPTION:
URL:https://www.pdangelo.com/site/event/understanding-cam-foundation-event-at-ferncroft-country-club/
LOCATION:Ferncroft Country Club\, 10 Village Road\, Middleton\, MA\, 01949\, United States
END:VEVENT
BEGIN:VEVENT
DTSTART;TZID=UTC:20180612T190000
DTEND;TZID=UTC:20180612T210000
DTSTAMP:20260423T043337
CREATED:20180209T154456Z
LAST-MODIFIED:20180209T154456Z
UID:2104-1528830000-1528837200@www.pdangelo.com
SUMMARY:corporate event at Sheraton Portsmouth Harborside Hotel
DESCRIPTION:
URL:https://www.pdangelo.com/site/event/corporate-event-at-sheraton-portsmouth-harborside-hotel/
LOCATION:Sheraton Portsmouth Harborside Hotel\, 250 Market Street\, Portsmouth\, NH\, 03801\, United States
END:VEVENT
BEGIN:VEVENT
DTSTART;TZID=UTC:20180616T200000
DTEND;TZID=UTC:20180616T220000
DTSTAMP:20260423T043337
CREATED:20180319T160549Z
LAST-MODIFIED:20180319T160549Z
UID:2137-1529179200-1529186400@www.pdangelo.com
SUMMARY:'Take This Job and Shove It!' Comedy Tour at Plainridge Park Casino
DESCRIPTION:
URL:https://www.pdangelo.com/site/event/take-this-job-and-shove-it-comedy-tour-at-plainridge-park-casino/
LOCATION:Plainridge Park Casino\, 301 Washington Street\, Plainville\, MA\, 02762\, United States
END:VEVENT
BEGIN:VEVENT
DTSTART;TZID=UTC:20180620T180000
DTEND;TZID=UTC:20180620T200000
DTSTAMP:20260423T043337
CREATED:20180515T173601Z
LAST-MODIFIED:20180515T173601Z
UID:2174-1529517600-1529524800@www.pdangelo.com
SUMMARY:33rd Annual Neurofibromatosis Golf Tourney at The International CC
DESCRIPTION:
URL:https://www.pdangelo.com/site/event/33rd-annual-neurofibromatosis-golf-tourney-at-the-international-cc/
LOCATION:International Country Club\, 159 Ballville Road\, Bolton\, MA\, 01740\, United States
END:VEVENT
END:VCALENDAR