BEGIN:VCALENDAR
VERSION:2.0
PRODID:-//Paul D&#039;Angelo - ECPv6.9.0//NONSGML v1.0//EN
CALSCALE:GREGORIAN
METHOD:PUBLISH
X-ORIGINAL-URL:https://www.pdangelo.com/site
X-WR-CALDESC:Events for Paul D&#039;Angelo
REFRESH-INTERVAL;VALUE=DURATION:PT1H
X-Robots-Tag:noindex
X-PUBLISHED-TTL:PT1H
BEGIN:VTIMEZONE
TZID:UTC
BEGIN:STANDARD
TZOFFSETFROM:+0000
TZOFFSETTO:+0000
TZNAME:UTC
DTSTART:20180101T000000
END:STANDARD
END:VTIMEZONE
BEGIN:VEVENT
DTSTART;TZID=UTC:20180302T200000
DTEND;TZID=UTC:20180302T220000
DTSTAMP:20260425T122927
CREATED:20171217T165746Z
LAST-MODIFIED:20171218T182054Z
UID:2055-1520020800-1520028000@www.pdangelo.com
SUMMARY:Pitman's Freight Room\, Laconia\, NH
DESCRIPTION:
URL:https://www.pdangelo.com/site/event/pitmans-freight-room-laconia-nh/
LOCATION:Pitman’s Freight Room\, Laconia\, 94 New Salem Street\, Laconia\, NH\, 03246\, United States
ORGANIZER;CN="Laugh Riot Productions":MAILTO:msmith789@comcast.net
END:VEVENT
BEGIN:VEVENT
DTSTART;TZID=UTC:20180303T200000
DTEND;TZID=UTC:20180303T223000
DTSTAMP:20260425T122927
CREATED:20180218T060731Z
LAST-MODIFIED:20180218T060731Z
UID:2108-1520107200-1520116200@www.pdangelo.com
SUMMARY:2nd Annual "Yee-Haws & Ha-Ha's" show at Blue Ocean Music Hall
DESCRIPTION:Last year’s show was a sell-out so make your reservations now! for a great night of comedy & country western with Showtime’s Paul D’Angelo’s and Nashville’s L:exi James at an amazing venue.
URL:https://www.pdangelo.com/site/event/2nd-annual-yee-haws-ha-has-show-at-blue-ocean-music-hall/
LOCATION:Blue Ocean Music Hall\, Salisbury\, 4 Oceanfront North\, Salisbury\, MA\, 01952\, United States
ORGANIZER;CN="Blue Ocean Music Hall":MAILTO:nfo@blueoceanhall.com
END:VEVENT
BEGIN:VEVENT
DTSTART;TZID=UTC:20180309T200000
DTEND;TZID=UTC:20180309T220000
DTSTAMP:20260425T122927
CREATED:20180129T162715Z
LAST-MODIFIED:20180129T162715Z
UID:2091-1520625600-1520632800@www.pdangelo.com
SUMMARY:fundraising event at American Legion Post #440\, Newton
DESCRIPTION:
URL:https://www.pdangelo.com/site/event/fundraising-event-at-american-legion-post-440-newton/
LOCATION:American Legion Post #440\, Newton\, 295 California Street\, Newton\, MA\, 02458\, United States
END:VEVENT
BEGIN:VEVENT
DTSTART;TZID=UTC:20180310T200000
DTEND;TZID=UTC:20180310T220000
DTSTAMP:20260425T122927
CREATED:20171204T213349Z
LAST-MODIFIED:20171204T213349Z
UID:2049-1520712000-1520719200@www.pdangelo.com
SUMMARY:Kiwanis fundraiser at Angelica's\, Middleton\, MA
DESCRIPTION:
URL:https://www.pdangelo.com/site/event/kiwanis-fundraiser-at-angelicas-middleton-ma-3/
LOCATION:Angelica’s\, 49 South Main Street (Route 114)\, Middelton\, MA\, United States
END:VEVENT
BEGIN:VEVENT
DTSTART;TZID=UTC:20180316T200000
DTEND;TZID=UTC:20180316T220000
DTSTAMP:20260425T122927
CREATED:20171020T201538Z
LAST-MODIFIED:20171020T201538Z
UID:2001-1521230400-1521237600@www.pdangelo.com
SUMMARY:comedy fundraiser at Woburn Elks Club
DESCRIPTION:
URL:https://www.pdangelo.com/site/event/comedy-fundraiser-at-woburn-elks-club/
LOCATION:Woburn Elks\, 295 Washington Street\, Woburn\, MA\, 01801\, United States
END:VEVENT
BEGIN:VEVENT
DTSTART;TZID=UTC:20180317T200000
DTEND;TZID=UTC:20180317T220000
DTSTAMP:20260425T122927
CREATED:20180117T195002Z
LAST-MODIFIED:20180117T195002Z
UID:2080-1521316800-1521324000@www.pdangelo.com
SUMMARY:fundraising event at Raynham American Legion
DESCRIPTION:event to benefit Rayham Assoc. of Volunteers for Education and various Veterans programs
URL:https://www.pdangelo.com/site/event/fundraising-event-at-raynham-american-legion/
LOCATION:Raynham American Legion Post #405\, 291 Mill Street\, Raynham\, MA\, 02767\, United States
ORGANIZER;CN="CPF Productions":MAILTO:chris@cpfproductions.com
END:VEVENT
BEGIN:VEVENT
DTSTART;TZID=UTC:20180323T203000
DTEND;TZID=UTC:20180323T223000
DTSTAMP:20260425T122927
CREATED:20171026T195714Z
LAST-MODIFIED:20171026T195714Z
UID:2005-1521837000-1521844200@www.pdangelo.com
SUMMARY:Giggles Comedy Club
DESCRIPTION:
URL:https://www.pdangelo.com/site/event/giggles-comedy-club-33/
LOCATION:Giggles Comedy Club / Prince Restaurant\, 517 Broadway (Route #1 SB)\, Saugus\, MA\, 01906\, United States
END:VEVENT
BEGIN:VEVENT
DTSTART;TZID=UTC:20180324T203000
DTEND;TZID=UTC:20180324T223000
DTSTAMP:20260425T122927
CREATED:20171026T195825Z
LAST-MODIFIED:20171026T195825Z
UID:2007-1521923400-1521930600@www.pdangelo.com
SUMMARY:Giggles Comedy Club
DESCRIPTION:
URL:https://www.pdangelo.com/site/event/giggles-comedy-club-34/
LOCATION:Giggles Comedy Club / Prince Restaurant\, 517 Broadway (Route #1 SB)\, Saugus\, MA\, 01906\, United States
END:VEVENT
END:VCALENDAR