BEGIN:VCALENDAR
VERSION:2.0
PRODID:-//Paul D&#039;Angelo - ECPv6.9.0//NONSGML v1.0//EN
CALSCALE:GREGORIAN
METHOD:PUBLISH
X-WR-CALNAME:Paul D&#039;Angelo
X-ORIGINAL-URL:https://www.pdangelo.com/site
X-WR-CALDESC:Events for Paul D&#039;Angelo
REFRESH-INTERVAL;VALUE=DURATION:PT1H
X-Robots-Tag:noindex
X-PUBLISHED-TTL:PT1H
BEGIN:VTIMEZONE
TZID:UTC
BEGIN:STANDARD
TZOFFSETFROM:+0000
TZOFFSETTO:+0000
TZNAME:UTC
DTSTART:20170101T000000
END:STANDARD
END:VTIMEZONE
BEGIN:VEVENT
DTSTART;TZID=UTC:20171206T180000
DTEND;TZID=UTC:20171206T220000
DTSTAMP:20260425T130009
CREATED:20171004T145943Z
LAST-MODIFIED:20171004T145943Z
UID:1989-1512583200-1512597600@www.pdangelo.com
SUMMARY:Holiday Comedy Night at The Log Cabin\, Holyoke\, MA
DESCRIPTION:for tickets: www.thelogcabin.com or (413) 535-5077
URL:https://www.pdangelo.com/site/event/holiday-comedy-night-at-the-log-cabin-holyoke-ma/
LOCATION:The Log Cabin\, Holyoke\, 500 Easthampton Road\, Holyoke\, MA\, 01040\, United States
END:VEVENT
BEGIN:VEVENT
DTSTART;TZID=UTC:20171215T203000
DTEND;TZID=UTC:20171215T223000
DTSTAMP:20260425T130009
CREATED:20171030T214037Z
LAST-MODIFIED:20171030T214037Z
UID:2037-1513369800-1513377000@www.pdangelo.com
SUMMARY:Kowloon Komedy Club
DESCRIPTION:for tickets call (781) 484-6002
URL:https://www.pdangelo.com/site/event/kowloon-komedy-club-23/
LOCATION:Kowloon Restaurant\, 948 Broadway\, Saugus\, MA\, 01906\, United States
END:VEVENT
BEGIN:VEVENT
DTSTART;TZID=UTC:20171216T203000
DTEND;TZID=UTC:20171216T223000
DTSTAMP:20260425T130009
CREATED:20171030T214134Z
LAST-MODIFIED:20171030T214134Z
UID:2039-1513456200-1513463400@www.pdangelo.com
SUMMARY:Kowloon Komedy Club
DESCRIPTION:for tickets call (781) 484-6002
URL:https://www.pdangelo.com/site/event/kowloon-komedy-club-24/
LOCATION:Kowloon Restaurant\, 948 Broadway\, Saugus\, MA\, 01906\, United States
END:VEVENT
BEGIN:VEVENT
DTSTART;TZID=UTC:20171231T200000
DTEND;TZID=UTC:20171231T220000
DTSTAMP:20260425T130009
CREATED:20170103T000136Z
LAST-MODIFIED:20171030T214420Z
UID:1803-1514750400-1514757600@www.pdangelo.com
SUMMARY:Annual New Year's Eve show at the Larcom Theatre\, Beverly\, MA
DESCRIPTION:One show at 8:00pm \nDirect ticket link: https://bluefrog.showare.com/eventperformances.asp?evt=22
URL:https://www.pdangelo.com/site/event/annual-new-years-eve-show-at-the-larcom-theatre-beverly-ma/
LOCATION:Larcom Theatre\, 13 Wallis Street\, Beverly\, MA\, 01915\, United States
END:VEVENT
END:VCALENDAR