BEGIN:VCALENDAR
VERSION:2.0
PRODID:-//Paul D&#039;Angelo - ECPv6.9.0//NONSGML v1.0//EN
CALSCALE:GREGORIAN
METHOD:PUBLISH
X-WR-CALNAME:Paul D&#039;Angelo
X-ORIGINAL-URL:https://www.pdangelo.com/site
X-WR-CALDESC:Events for Paul D&#039;Angelo
REFRESH-INTERVAL;VALUE=DURATION:PT1H
X-Robots-Tag:noindex
X-PUBLISHED-TTL:PT1H
BEGIN:VTIMEZONE
TZID:UTC
BEGIN:STANDARD
TZOFFSETFROM:+0000
TZOFFSETTO:+0000
TZNAME:UTC
DTSTART:20170101T000000
END:STANDARD
END:VTIMEZONE
BEGIN:VEVENT
DTSTART;TZID=UTC:20171102T200000
DTEND;TZID=UTC:20171102T220000
DTSTAMP:20260425T211206
CREATED:20171030T213649Z
LAST-MODIFIED:20171030T213649Z
UID:2034-1509652800-1509660000@www.pdangelo.com
SUMMARY:Comedy Night at Cavaleiro's Restaurant\, Lowell\, MA
DESCRIPTION:
URL:https://www.pdangelo.com/site/event/comedy-night-at-cavaleiros-restaurant-lowell-ma-2/
LOCATION:Cavaleiro’s Restaurant\, Lowell\, 573 Lawrence Street\, Lowell\, MA\, 01852\, United States
END:VEVENT
BEGIN:VEVENT
DTSTART;TZID=UTC:20171006T200000
DTEND;TZID=UTC:20171006T220000
DTSTAMP:20260425T211206
CREATED:20170922T155504Z
LAST-MODIFIED:20170922T155504Z
UID:1977-1507320000-1507327200@www.pdangelo.com
SUMMARY:fundraising event at White's of Westport
DESCRIPTION:
URL:https://www.pdangelo.com/site/event/fundraising-event-at-whites-of-westport/
LOCATION:White’s of Westport\, 66 State Road\, Westport\, MA\, 02790\, United States
END:VEVENT
END:VCALENDAR