BEGIN:VCALENDAR
VERSION:2.0
PRODID:-//Paul D&#039;Angelo - ECPv6.9.0//NONSGML v1.0//EN
CALSCALE:GREGORIAN
METHOD:PUBLISH
X-ORIGINAL-URL:https://www.pdangelo.com/site
X-WR-CALDESC:Events for Paul D&#039;Angelo
REFRESH-INTERVAL;VALUE=DURATION:PT1H
X-Robots-Tag:noindex
X-PUBLISHED-TTL:PT1H
BEGIN:VTIMEZONE
TZID:UTC
BEGIN:STANDARD
TZOFFSETFROM:+0000
TZOFFSETTO:+0000
TZNAME:UTC
DTSTART:20180101T000000
END:STANDARD
END:VTIMEZONE
BEGIN:VEVENT
DTSTART;TZID=UTC:20180511T200000
DTEND;TZID=UTC:20180511T220000
DTSTAMP:20260425T025806
CREATED:20180511T191050Z
LAST-MODIFIED:20180511T191050Z
UID:2170-1526068800-1526076000@www.pdangelo.com
SUMMARY:fundraising event at The Margate Resort\, Laconia\, NH
DESCRIPTION:
URL:https://www.pdangelo.com/site/event/fundraising-event-at-the-margate-resort-laconia-nh/
LOCATION:Margate Resort\, 76 Lake Street\, Laconia\, NH\, 03246\, United States
END:VEVENT
END:VCALENDAR