BEGIN:VCALENDAR
VERSION:2.0
PRODID:-//Paul D&#039;Angelo - ECPv6.9.0//NONSGML v1.0//EN
CALSCALE:GREGORIAN
METHOD:PUBLISH
X-WR-CALNAME:Paul D&#039;Angelo
X-ORIGINAL-URL:https://www.pdangelo.com/site
X-WR-CALDESC:Events for Paul D&#039;Angelo
REFRESH-INTERVAL;VALUE=DURATION:PT1H
X-Robots-Tag:noindex
X-PUBLISHED-TTL:PT1H
BEGIN:VTIMEZONE
TZID:UTC
BEGIN:STANDARD
TZOFFSETFROM:+0000
TZOFFSETTO:+0000
TZNAME:UTC
DTSTART:20170101T000000
END:STANDARD
END:VTIMEZONE
BEGIN:VEVENT
DTSTART;TZID=UTC:20171117T200000
DTEND;TZID=UTC:20171117T220000
DTSTAMP:20260426T013319
CREATED:20170906T211809Z
LAST-MODIFIED:20170906T211809Z
UID:1963-1510948800-1510956000@www.pdangelo.com
SUMMARY:event at Four Oaks Country Club\, Dracut\, MA
DESCRIPTION:
URL:https://www.pdangelo.com/site/event/event-at-four-oaks-country-club-dracut-ma/
LOCATION:Four Oaks Country Club\, 1 Clubhouse Lane\, Dracut\, MA\, 01826\, United States
END:VEVENT
END:VCALENDAR