BEGIN:VCALENDAR
VERSION:2.0
PRODID:-//Paul D&#039;Angelo - ECPv6.9.0//NONSGML v1.0//EN
CALSCALE:GREGORIAN
METHOD:PUBLISH
X-ORIGINAL-URL:https://www.pdangelo.com/site
X-WR-CALDESC:Events for Paul D&#039;Angelo
REFRESH-INTERVAL;VALUE=DURATION:PT1H
X-Robots-Tag:noindex
X-PUBLISHED-TTL:PT1H
BEGIN:VTIMEZONE
TZID:UTC
BEGIN:STANDARD
TZOFFSETFROM:+0000
TZOFFSETTO:+0000
TZNAME:UTC
DTSTART:20170101T000000
END:STANDARD
END:VTIMEZONE
BEGIN:VEVENT
DTSTART;TZID=UTC:20171109T203000
DTEND;TZID=UTC:20171109T223000
DTSTAMP:20260426T013408
CREATED:20171005T175351Z
LAST-MODIFIED:20171005T175351Z
UID:1992-1510259400-1510266600@www.pdangelo.com
SUMMARY:Comedy Night at Cavaleiro's Restaurant\, Lowell\, MA
DESCRIPTION:
URL:https://www.pdangelo.com/site/event/comedy-night-at-cavaleiros-restaurant-lowell-ma/
LOCATION:Cavaleiro’s Restaurant\, Lowell\, 573 Lawrence Street\, Lowell\, MA\, 01852\, United States
END:VEVENT
END:VCALENDAR