BEGIN:VCALENDAR
VERSION:2.0
PRODID:-//Paul D&#039;Angelo - ECPv6.9.0//NONSGML v1.0//EN
CALSCALE:GREGORIAN
METHOD:PUBLISH
X-ORIGINAL-URL:https://www.pdangelo.com/site
X-WR-CALDESC:Events for Paul D&#039;Angelo
REFRESH-INTERVAL;VALUE=DURATION:PT1H
X-Robots-Tag:noindex
X-PUBLISHED-TTL:PT1H
BEGIN:VTIMEZONE
TZID:UTC
BEGIN:STANDARD
TZOFFSETFROM:+0000
TZOFFSETTO:+0000
TZNAME:UTC
DTSTART:20170101T000000
END:STANDARD
END:VTIMEZONE
BEGIN:VEVENT
DTSTART;TZID=UTC:20171103T200000
DTEND;TZID=UTC:20171103T220000
DTSTAMP:20260426T000015
CREATED:20170725T173257Z
LAST-MODIFIED:20170725T173257Z
UID:1944-1509739200-1509746400@www.pdangelo.com
SUMMARY:fundraising event for So. Kingston (RI) Police
DESCRIPTION:
URL:https://www.pdangelo.com/site/event/fundraising-event-for-so-kingston-ri-police/
LOCATION:Quonset O Club\, 200 Lt. James Brown Road\, North Kingston\, MA\, 02852\, United States
END:VEVENT
END:VCALENDAR