BEGIN:VCALENDAR
VERSION:2.0
PRODID:-//Paul D&#039;Angelo - ECPv6.9.0//NONSGML v1.0//EN
CALSCALE:GREGORIAN
METHOD:PUBLISH
X-WR-CALNAME:Paul D&#039;Angelo
X-ORIGINAL-URL:https://www.pdangelo.com/site
X-WR-CALDESC:Events for Paul D&#039;Angelo
REFRESH-INTERVAL;VALUE=DURATION:PT1H
X-Robots-Tag:noindex
X-PUBLISHED-TTL:PT1H
BEGIN:VTIMEZONE
TZID:UTC
BEGIN:STANDARD
TZOFFSETFROM:+0000
TZOFFSETTO:+0000
TZNAME:UTC
DTSTART:20170101T000000
END:STANDARD
END:VTIMEZONE
BEGIN:VEVENT
DTSTART;TZID=UTC:20171027T200000
DTEND;TZID=UTC:20171027T220000
DTSTAMP:20260425T115941
CREATED:20170609T160156Z
LAST-MODIFIED:20170609T160156Z
UID:1925-1509134400-1509141600@www.pdangelo.com
SUMMARY:River Club Music Hall\, Scituate\, MA
DESCRIPTION:
URL:https://www.pdangelo.com/site/event/river-club-music-hall-scituate-ma/
LOCATION:River Club Music Hall\, 78 Border Street\, Scituate\, MA\, 02066\, United States
END:VEVENT
END:VCALENDAR