BEGIN:VCALENDAR
VERSION:2.0
PRODID:-//Paul D&#039;Angelo - ECPv6.9.0//NONSGML v1.0//EN
CALSCALE:GREGORIAN
METHOD:PUBLISH
X-ORIGINAL-URL:https://www.pdangelo.com/site
X-WR-CALDESC:Events for Paul D&#039;Angelo
REFRESH-INTERVAL;VALUE=DURATION:PT1H
X-Robots-Tag:noindex
X-PUBLISHED-TTL:PT1H
BEGIN:VTIMEZONE
TZID:UTC
BEGIN:STANDARD
TZOFFSETFROM:+0000
TZOFFSETTO:+0000
TZNAME:UTC
DTSTART:20170101T000000
END:STANDARD
END:VTIMEZONE
BEGIN:VEVENT
DTSTART;TZID=UTC:20171007T200000
DTEND;TZID=UTC:20171007T220000
DTSTAMP:20260425T103929
CREATED:20170508T181452Z
LAST-MODIFIED:20170508T181452Z
UID:1897-1507406400-1507413600@www.pdangelo.com
SUMMARY:'Take This Job and Shove It! Comedy Tour' at the Tralf Music Hall\, Buffalo\, NY
DESCRIPTION:with Christine Hurley and Mitch Stinson
URL:https://www.pdangelo.com/site/event/take-this-job-and-shove-it-comedy-tour-at-the-tralf-music-hall-buffalo-ny/
LOCATION:Tralf Music Hall\, 622 Main Street\, Buffalo\, NY\, 14202\, United States
END:VEVENT
END:VCALENDAR