BEGIN:VCALENDAR
VERSION:2.0
PRODID:-//Paul D&#039;Angelo - ECPv6.9.0//NONSGML v1.0//EN
CALSCALE:GREGORIAN
METHOD:PUBLISH
X-ORIGINAL-URL:https://www.pdangelo.com/site
X-WR-CALDESC:Events for Paul D&#039;Angelo
REFRESH-INTERVAL;VALUE=DURATION:PT1H
X-Robots-Tag:noindex
X-PUBLISHED-TTL:PT1H
BEGIN:VTIMEZONE
TZID:UTC
BEGIN:STANDARD
TZOFFSETFROM:+0000
TZOFFSETTO:+0000
TZNAME:UTC
DTSTART:20170101T000000
END:STANDARD
END:VTIMEZONE
BEGIN:VEVENT
DTSTART;TZID=UTC:20171004T190000
DTEND;TZID=UTC:20171004T210000
DTSTAMP:20260426T013419
CREATED:20170508T175347Z
LAST-MODIFIED:20170508T175421Z
UID:1894-1507143600-1507150800@www.pdangelo.com
SUMMARY:Bank of America/Merrill-Lynch event at Tupelo Music Hall
DESCRIPTION:
URL:https://www.pdangelo.com/site/event/bank-of-americamerrill-lynch-event-at-tupelo-music-hall/
LOCATION:Tupelo Music Hall\, 10 A Street\, Derry\, NH\, 03038\, United States
END:VEVENT
END:VCALENDAR