BEGIN:VCALENDAR
VERSION:2.0
PRODID:-//Paul D&#039;Angelo - ECPv6.9.0//NONSGML v1.0//EN
CALSCALE:GREGORIAN
METHOD:PUBLISH
X-ORIGINAL-URL:https://www.pdangelo.com/site
X-WR-CALDESC:Events for Paul D&#039;Angelo
REFRESH-INTERVAL;VALUE=DURATION:PT1H
X-Robots-Tag:noindex
X-PUBLISHED-TTL:PT1H
BEGIN:VTIMEZONE
TZID:UTC
BEGIN:STANDARD
TZOFFSETFROM:+0000
TZOFFSETTO:+0000
TZNAME:UTC
DTSTART:20170101T000000
END:STANDARD
END:VTIMEZONE
BEGIN:VEVENT
DTSTART;TZID=UTC:20171003T190000
DTEND;TZID=UTC:20171003T210000
DTSTAMP:20260425T150039
CREATED:20170508T185105Z
LAST-MODIFIED:20170508T185105Z
UID:1904-1507057200-1507064400@www.pdangelo.com
SUMMARY:Sudbury River Tennis Club event at La Cantina Italiana\, Framingham\, MA
DESCRIPTION:
URL:https://www.pdangelo.com/site/event/sudbury-river-tennis-club-event-at-la-cantina-italiana-framingham-ma/
LOCATION:La Cantina Italiana\, 911 Waverly Street\, Framingham\, MA\, 01702\, United States
END:VEVENT
END:VCALENDAR