BEGIN:VCALENDAR
VERSION:2.0
PRODID:-//Paul D&#039;Angelo - ECPv6.9.0//NONSGML v1.0//EN
CALSCALE:GREGORIAN
METHOD:PUBLISH
X-ORIGINAL-URL:https://www.pdangelo.com/site
X-WR-CALDESC:Events for Paul D&#039;Angelo
REFRESH-INTERVAL;VALUE=DURATION:PT1H
X-Robots-Tag:noindex
X-PUBLISHED-TTL:PT1H
BEGIN:VTIMEZONE
TZID:UTC
BEGIN:STANDARD
TZOFFSETFROM:+0000
TZOFFSETTO:+0000
TZNAME:UTC
DTSTART:20170101T000000
END:STANDARD
END:VTIMEZONE
BEGIN:VEVENT
DTSTART;TZID=UTC:20170613T120000
DTEND;TZID=UTC:20170613T140000
DTSTAMP:20260425T103923
CREATED:20170525T163648Z
LAST-MODIFIED:20170525T163648Z
UID:1916-1497355200-1497362400@www.pdangelo.com
SUMMARY:Worcester County Highway Association event at Wachusett Mountain
DESCRIPTION:
URL:https://www.pdangelo.com/site/event/worcester-county-highway-association-event-at-wachusett-mountain/
LOCATION:Wachusett Mountain\, 41 Mile High Road\, Westminster\, MA\, 01473\, United States
END:VEVENT
END:VCALENDAR