BEGIN:VCALENDAR
VERSION:2.0
PRODID:-//Paul D&#039;Angelo - ECPv6.9.0//NONSGML v1.0//EN
CALSCALE:GREGORIAN
METHOD:PUBLISH
X-WR-CALNAME:Paul D&#039;Angelo
X-ORIGINAL-URL:https://www.pdangelo.com/site
X-WR-CALDESC:Events for Paul D&#039;Angelo
REFRESH-INTERVAL;VALUE=DURATION:PT1H
X-Robots-Tag:noindex
X-PUBLISHED-TTL:PT1H
BEGIN:VTIMEZONE
TZID:UTC
BEGIN:STANDARD
TZOFFSETFROM:+0000
TZOFFSETTO:+0000
TZNAME:UTC
DTSTART:20170101T000000
END:STANDARD
END:VTIMEZONE
BEGIN:VEVENT
DTSTART;TZID=UTC:20170426T190000
DTEND;TZID=UTC:20170426T210000
DTSTAMP:20260425T142455
CREATED:20170217T150819Z
LAST-MODIFIED:20170217T150819Z
UID:1822-1493233200-1493240400@www.pdangelo.com
SUMMARY:corporate event at International Country Club\, Bolton\, MA
DESCRIPTION:
URL:https://www.pdangelo.com/site/event/corporate-event-at-international-country-club-bolton-ma/
LOCATION:International Country Club\, 159 Ballville Road\, Bolton\, MA\, 01740\, United States
END:VEVENT
END:VCALENDAR