BEGIN:VCALENDAR
VERSION:2.0
PRODID:-//Paul D&#039;Angelo - ECPv6.9.0//NONSGML v1.0//EN
CALSCALE:GREGORIAN
METHOD:PUBLISH
X-ORIGINAL-URL:https://www.pdangelo.com/site
X-WR-CALDESC:Events for Paul D&#039;Angelo
REFRESH-INTERVAL;VALUE=DURATION:PT1H
X-Robots-Tag:noindex
X-PUBLISHED-TTL:PT1H
BEGIN:VTIMEZONE
TZID:UTC
BEGIN:STANDARD
TZOFFSETFROM:+0000
TZOFFSETTO:+0000
TZNAME:UTC
DTSTART:20170101T000000
END:STANDARD
END:VTIMEZONE
BEGIN:VEVENT
DTSTART;TZID=UTC:20170422T180000
DTEND;TZID=UTC:20170422T230000
DTSTAMP:20260425T142407
CREATED:20161118T153704Z
LAST-MODIFIED:20161118T153704Z
UID:1767-1492884000-1492902000@www.pdangelo.com
SUMMARY:fundraisers for Malden Police Association
DESCRIPTION:2 shows at 6:30pm and 9:00pm
URL:https://www.pdangelo.com/site/event/fundraisers-for-malden-police-association/
LOCATION:Jackson Suite Function Halls\, 17 Jackson Street\, Malden\, MA\, 02148\, United States
END:VEVENT
END:VCALENDAR