BEGIN:VCALENDAR
VERSION:2.0
PRODID:-//Paul D&#039;Angelo - ECPv6.9.0//NONSGML v1.0//EN
CALSCALE:GREGORIAN
METHOD:PUBLISH
X-WR-CALNAME:Paul D&#039;Angelo
X-ORIGINAL-URL:https://www.pdangelo.com/site
X-WR-CALDESC:Events for Paul D&#039;Angelo
REFRESH-INTERVAL;VALUE=DURATION:PT1H
X-Robots-Tag:noindex
X-PUBLISHED-TTL:PT1H
BEGIN:VTIMEZONE
TZID:UTC
BEGIN:STANDARD
TZOFFSETFROM:+0000
TZOFFSETTO:+0000
TZNAME:UTC
DTSTART:20170101T000000
END:STANDARD
END:VTIMEZONE
BEGIN:VEVENT
DTSTART;TZID=UTC:20170414T200000
DTEND;TZID=UTC:20170414T220000
DTSTAMP:20260425T142457
CREATED:20170222T154015Z
LAST-MODIFIED:20170222T154015Z
UID:1823-1492200000-1492207200@www.pdangelo.com
SUMMARY:fundraising event at Laconia (NH) VFW
DESCRIPTION:
URL:https://www.pdangelo.com/site/event/fundraising-event-at-laconia-nh-vfw/
LOCATION:Laconia (NH) VFW\, 143 Court Street\, Laconia\, NH\, 03246\, United States
END:VEVENT
END:VCALENDAR