BEGIN:VCALENDAR
VERSION:2.0
PRODID:-//Paul D&#039;Angelo - ECPv6.9.0//NONSGML v1.0//EN
CALSCALE:GREGORIAN
METHOD:PUBLISH
X-WR-CALNAME:Paul D&#039;Angelo
X-ORIGINAL-URL:https://www.pdangelo.com/site
X-WR-CALDESC:Events for Paul D&#039;Angelo
REFRESH-INTERVAL;VALUE=DURATION:PT1H
X-Robots-Tag:noindex
X-PUBLISHED-TTL:PT1H
BEGIN:VTIMEZONE
TZID:UTC
BEGIN:STANDARD
TZOFFSETFROM:+0000
TZOFFSETTO:+0000
TZNAME:UTC
DTSTART:20170101T000000
END:STANDARD
END:VTIMEZONE
BEGIN:VEVENT
DTSTART;TZID=UTC:20170325T200000
DTEND;TZID=UTC:20170325T220000
DTSTAMP:20260425T185119
CREATED:20161118T173313Z
LAST-MODIFIED:20161118T173313Z
UID:1769-1490472000-1490479200@www.pdangelo.com
SUMMARY:Georgetown (MA) baseball fundraising event
DESCRIPTION:
URL:https://www.pdangelo.com/site/event/georgetown-ma-baseball-fundraising-event/
LOCATION:Georgetown VFW Post #7608\, 435 Andover Street\, Georgetown\, MA\, 01833\, United States
END:VEVENT
END:VCALENDAR