BEGIN:VCALENDAR
VERSION:2.0
PRODID:-//Paul D&#039;Angelo - ECPv6.9.0//NONSGML v1.0//EN
CALSCALE:GREGORIAN
METHOD:PUBLISH
X-ORIGINAL-URL:https://www.pdangelo.com/site
X-WR-CALDESC:Events for Paul D&#039;Angelo
REFRESH-INTERVAL;VALUE=DURATION:PT1H
X-Robots-Tag:noindex
X-PUBLISHED-TTL:PT1H
BEGIN:VTIMEZONE
TZID:UTC
BEGIN:STANDARD
TZOFFSETFROM:+0000
TZOFFSETTO:+0000
TZNAME:UTC
DTSTART:20170101T000000
END:STANDARD
END:VTIMEZONE
BEGIN:VEVENT
DTSTART;TZID=UTC:20170304T200000
DTEND;TZID=UTC:20170304T220000
DTSTAMP:20260425T185101
CREATED:20160809T204001Z
LAST-MODIFIED:20160809T204001Z
UID:1607-1488657600-1488664800@www.pdangelo.com
SUMMARY:fundraising event for Matthew Pucino Foundation\, Plymouth\, MA
DESCRIPTION:for contributions and tickets: www.MatthewPucinofoundation.org \ndoors open at 6:30pm/comedy 8:00pm
URL:https://www.pdangelo.com/site/event/fundraising-event-for-matthew-pucino-foundation-plymouth-ma/
LOCATION:Plymouth VFW Post #1822\, 22 Seven Hills Road\, Plymouth\, MA\, 02360\, United States
END:VEVENT
END:VCALENDAR